{
 "version": 1.0,
 "tileBundlesPath": "./tile",
 "storageInfo": {
  "packetSize": 128,
  "storageFormat": "esriMapCacheStorageModeCompactV2"
 },
 "tileImageInfo": {
  "format": "Mixed",
  "compressionQuality": 75,
  "bandCount": 1,
  "lercError": 0
 },
 "tileInfo": {
  "spatialReference": {
   "wkid": 102100,
   "latestWkid": 3857
  },
  "origin": {
   "x": -2.0037508342787E7,
   "y": 2.0037508342787E7
  },
  "rows": 256,
  "cols": 256,
  "dpi": 96,
  "lods": [
   {
    "level": 0,
    "resolution": 156543.033928,
    "scale": 5.91657527591555E8
   },
   {
    "level": 1,
    "resolution": 78271.5169639999,
    "scale": 2.95828763795777E8
   },
   {
    "level": 2,
    "resolution": 39135.7584820001,
    "scale": 1.47914381897889E8
   },
   {
    "level": 3,
    "resolution": 19567.8792409999,
    "scale": 7.3957190948944E7
   },
   {
    "level": 4,
    "resolution": 9783.93962049996,
    "scale": 3.6978595474472E7
   },
   {
    "level": 5,
    "resolution": 4891.96981024998,
    "scale": 1.8489297737236E7
   },
   {
    "level": 6,
    "resolution": 2445.98490512499,
    "scale": 9244648.868618
   },
   {
    "level": 7,
    "resolution": 1222.99245256249,
    "scale": 4622324.434309
   },
   {
    "level": 8,
    "resolution": 611.49622628138,
    "scale": 2311162.217155
   },
   {
    "level": 9,
    "resolution": 305.748113140558,
    "scale": 1155581.108577
   },
   {
    "level": 10,
    "resolution": 152.874056570411,
    "scale": 577790.554289
   },
   {
    "level": 11,
    "resolution": 76.4370282850732,
    "scale": 288895.277144
   },
   {
    "level": 12,
    "resolution": 38.2185141425366,
    "scale": 144447.638572
   },
   {
    "level": 13,
    "resolution": 19.1092570712683,
    "scale": 72223.819286
   },
   {
    "level": 14,
    "resolution": 9.55462853563415,
    "scale": 36111.909643
   },
   {
    "level": 15,
    "resolution": 4.77731426794937,
    "scale": 18055.954822
   },
   {
    "level": 16,
    "resolution": 2.38865713397468,
    "scale": 9027.977411
   },
   {
    "level": 17,
    "resolution": 1.19432856685505,
    "scale": 4513.988705
   },
   {
    "level": 18,
    "resolution": 0.597164283559817,
    "scale": 2256.994353
   },
   {
    "level": 19,
    "resolution": 0.298582141647617,
    "scale": 1128.497176
   },
   {
    "level": 20,
    "resolution": 0.14929107082380833,
    "scale": 564.248588
   },
   {
    "level": 21,
    "resolution": 0.07464553541190416,
    "scale": 282.124294
   },
   {
    "level": 22,
    "resolution": 0.03732276770595208,
    "scale": 141.062147
   },
   {
    "level": 23,
    "resolution": 0.01866138385297604,
    "scale": 70.5310735
   }
  ],
  "format": "Mixed",
  "compressionQuality": 75,
  "bandCount": 1,
  "lercError": 0,
  "storageFormat": "esriMapCacheStorageModeCompactV2",
  "packetSize": 128
 },
 "name": "Carte",
 "serviceDescription": "",
 "spatialReference": {
  "wkid": 102100,
  "latestWkid": 3857,
  "xyTolerance": 0.001,
  "zTolerance": 0.001,
  "mTolerance": 0.001,
  "falseX": -20037700,
  "falseY": -30241100,
  "xyUnits": 10000,
  "falseZ": -100000,
  "zUnits": 10000,
  "falseM": -100000,
  "mUnits": 10000
 },
 "units": "esriMeters",
 "minLOD": 10,
 "maxLOD": 16,
 "resampling": true,
 "layers": [
  {
   "id": 0,
   "name": "Concentrations moyennes annuelles en PM10 en 2022 - ZAG Troyes",
   "parentLayerId": -1,
   "defaultVisibility": true,
   "subLayerIds": null,
   "minScale": 0,
   "maxScale": 0,
   "type": "Raster Layer",
   "supportsDynamicLegends": true,
   "legend": [
    {
     "label": "0",
     "imageData": "iVBORw0KGgoAAAANSUhEUgAAABQAAAAUCAYAAACNiR0NAAAACXBIWXMAAA7EAAAOxAGVKw4bAAAAPklEQVQ4jWNhoDJgoZ2BZ1b9p8gkkzBGVAOpBFhGDaQYsFBuBCoYNZBywEIFM1DAqIGUA0QYQssz6hlIJQAANZoD3I7rfnUAAAAASUVORK5CYII=",
     "contentType": "image/png",
     "groupId": "0",
     "height": 20,
     "width": 20,
     "layerId": 0,
     "layerName": "Concentrations moyennes annuelles en PM10 en 2022 - ZAG Troyes"
    },
    {
     "label": "0.1 - 1.6",
     "imageData": "iVBORw0KGgoAAAANSUhEUgAAABQAAAAUCAYAAACNiR0NAAAACXBIWXMAAA7EAAAOxAGVKw4bAAAAPklEQVQ4jWNhoDJgoZ2BZ1b9p8gkkzBGVAOpBFhGDaQYsFBuBCoYNZBywEIFM1DAqIGUA0QYQssz6hlIJQAANZoD3I7rfnUAAAAASUVORK5CYII=",
     "contentType": "image/png",
     "groupId": "0",
     "height": 20,
     "width": 20,
     "layerId": 0,
     "layerName": "Concentrations moyennes annuelles en PM10 en 2022 - ZAG Troyes"
    },
    {
     "label": "1.7 - 3.2",
     "imageData": "iVBORw0KGgoAAAANSUhEUgAAABQAAAAUCAYAAACNiR0NAAAACXBIWXMAAA7EAAAOxAGVKw4bAAAAPklEQVQ4jWNhoDJgoZ2BZ1b9p8gkkzBGVAOpBFhGDaQYsFBuBCoYNZBywEIFM1DAqIGUA0QYQssz6hlIJQAANZoD3I7rfnUAAAAASUVORK5CYII=",
     "contentType": "image/png",
     "groupId": "0",
     "height": 20,
     "width": 20,
     "layerId": 0,
     "layerName": "Concentrations moyennes annuelles en PM10 en 2022 - ZAG Troyes"
    },
    {
     "label": "3.3 - 4.8",
     "imageData": "iVBORw0KGgoAAAANSUhEUgAAABQAAAAUCAYAAACNiR0NAAAACXBIWXMAAA7EAAAOxAGVKw4bAAAAPklEQVQ4jWNhoDJgoZ2BZ1b9p8gkkzBGVAOpBFhGDaQYsFBuBCoYNZBywEIFM1DAqIGUA0QYQssz6hlIJQAANZoD3I7rfnUAAAAASUVORK5CYII=",
     "contentType": "image/png",
     "groupId": "0",
     "height": 20,
     "width": 20,
     "layerId": 0,
     "layerName": "Concentrations moyennes annuelles en PM10 en 2022 - ZAG Troyes"
    },
    {
     "label": "4.9 - 6.4",
     "imageData": "iVBORw0KGgoAAAANSUhEUgAAABQAAAAUCAYAAACNiR0NAAAACXBIWXMAAA7EAAAOxAGVKw4bAAAAPklEQVQ4jWNhoDJgoZ2BZ1b9p8gkkzBGVAOpBFhGDaQYsFBuBCoYNZBywEIFM1DAqIGUA0QYQssz6hlIJQAANZoD3I7rfnUAAAAASUVORK5CYII=",
     "contentType": "image/png",
     "groupId": "0",
     "height": 20,
     "width": 20,
     "layerId": 0,
     "layerName": "Concentrations moyennes annuelles en PM10 en 2022 - ZAG Troyes"
    },
    {
     "label": "6.5 - 8",
     "imageData": "iVBORw0KGgoAAAANSUhEUgAAABQAAAAUCAYAAACNiR0NAAAACXBIWXMAAA7EAAAOxAGVKw4bAAAAPklEQVQ4jWNhoDJgoZ2BZ1b9p8gkkzBGVAOpBFhGDaQYsFBuBCoYNZBywEIFM1DAqIGUA0QYQssz6hlIJQAANZoD3I7rfnUAAAAASUVORK5CYII=",
     "contentType": "image/png",
     "groupId": "0",
     "height": 20,
     "width": 20,
     "layerId": 0,
     "layerName": "Concentrations moyennes annuelles en PM10 en 2022 - ZAG Troyes"
    },
    {
     "label": "8.1 - 9.6",
     "imageData": "iVBORw0KGgoAAAANSUhEUgAAABQAAAAUCAYAAACNiR0NAAAACXBIWXMAAA7EAAAOxAGVKw4bAAAAPklEQVQ4jWNhoDJgoZ2BZ1b9p8gkkzBGVAOpBFhGDaQYsFBuBCoYNZBywEIFM1DAqIGUA0QYQssz6hlIJQAANZoD3I7rfnUAAAAASUVORK5CYII=",
     "contentType": "image/png",
     "groupId": "0",
     "height": 20,
     "width": 20,
     "layerId": 0,
     "layerName": "Concentrations moyennes annuelles en PM10 en 2022 - ZAG Troyes"
    },
    {
     "label": "9.7 - 11.2",
     "imageData": "iVBORw0KGgoAAAANSUhEUgAAABQAAAAUCAYAAACNiR0NAAAACXBIWXMAAA7EAAAOxAGVKw4bAAAAQElEQVQ4jWNhoDJgoZmB8hfb/1Ni0EP9SkYUA6kFWEYNpBiwUG4EKhg1kHLAQgUzUMCogZQDeBjCyjOqGUgtAAA3WgXbPndrjAAAAABJRU5ErkJggg==",
     "contentType": "image/png",
     "groupId": "0",
     "height": 20,
     "width": 20,
     "layerId": 0,
     "layerName": "Concentrations moyennes annuelles en PM10 en 2022 - ZAG Troyes"
    },
    {
     "label": "11.3 - 12.8",
     "imageData": "iVBORw0KGgoAAAANSUhEUgAAABQAAAAUCAYAAACNiR0NAAAACXBIWXMAAA7EAAAOxAGVKw4bAAAAQElEQVQ4jWNhoDJgoZmBdtfS/1Ni0CGtmYwoBlILsIwaSDFgodwIVDBqIOWAhQpmoIBRAykH8DCElWdUM5BaAAA1uwXXUdTK8QAAAABJRU5ErkJggg==",
     "contentType": "image/png",
     "groupId": "0",
     "height": 20,
     "width": 20,
     "layerId": 0,
     "layerName": "Concentrations moyennes annuelles en PM10 en 2022 - ZAG Troyes"
    },
    {
     "label": "12.9 - 14.4",
     "imageData": "iVBORw0KGgoAAAANSUhEUgAAABQAAAAUCAYAAACNiR0NAAAACXBIWXMAAA7EAAAOxAGVKw4bAAAAQElEQVQ4jWNhoDJgoZmB0bdd/lNi0FLVPYwoBlILsIwaSDFgodwIVDBqIOWAhQpmoIBRAykH8DCElWdUM5BaAAA10wXYfxSmvAAAAABJRU5ErkJggg==",
     "contentType": "image/png",
     "groupId": "0",
     "height": 20,
     "width": 20,
     "layerId": 0,
     "layerName": "Concentrations moyennes annuelles en PM10 en 2022 - ZAG Troyes"
    },
    {
     "label": "14.5 - 16",
     "imageData": "iVBORw0KGgoAAAANSUhEUgAAABQAAAAUCAYAAACNiR0NAAAACXBIWXMAAA7EAAAOxAGVKw4bAAAAQElEQVQ4jWNhoDJgoZmB1Q+U/lNiUKvCPUYUA6kFWEYNpBiwUG4EKhg1kHLAQgUzUMCogZQDeBjCyjOqGUgtAAA0iQXVLKuugwAAAABJRU5ErkJggg==",
     "contentType": "image/png",
     "groupId": "0",
     "height": 20,
     "width": 20,
     "layerId": 0,
     "layerName": "Concentrations moyennes annuelles en PM10 en 2022 - ZAG Troyes"
    },
    {
     "label": "16.1 - 17.6",
     "imageData": "iVBORw0KGgoAAAANSUhEUgAAABQAAAAUCAYAAACNiR0NAAAACXBIWXMAAA7EAAAOxAGVKw4bAAAAQElEQVQ4jWNhoDJgoZmBM58x/KfEoHQpBkYUA6kFWEYNpBiwUG4EKhg1kHLAQgUzUMCogZQDeBjCyjOqGUgtAAA1PwPTrro42wAAAABJRU5ErkJggg==",
     "contentType": "image/png",
     "groupId": "0",
     "height": 20,
     "width": 20,
     "layerId": 0,
     "layerName": "Concentrations moyennes annuelles en PM10 en 2022 - ZAG Troyes"
    },
    {
     "label": "17.7 - 19.2",
     "imageData": "iVBORw0KGgoAAAANSUhEUgAAABQAAAAUCAYAAACNiR0NAAAACXBIWXMAAA7EAAAOxAGVKw4bAAAAQElEQVQ4jWNhoDJgoZmBa14z/KfEoBBRBkYUA6kFWEYNpBiwUG4EKhg1kHLAQgUzUMCogZQDeBjCyjOqGUgtAAAs7AO7mTRTzAAAAABJRU5ErkJggg==",
     "contentType": "image/png",
     "groupId": "0",
     "height": 20,
     "width": 20,
     "layerId": 0,
     "layerName": "Concentrations moyennes annuelles en PM10 en 2022 - ZAG Troyes"
    },
    {
     "label": "19.3 - 20.8",
     "imageData": "iVBORw0KGgoAAAANSUhEUgAAABQAAAAUCAYAAACNiR0NAAAACXBIWXMAAA7EAAAOxAGVKw4bAAAAQElEQVQ4jWNhoDJgoZmBBz4w/KfEIAcBBkYUA6kFWEYNpBiwUG4EKhg1kHLAQgUzUMCogZQDeBjCyjOqGUgtAAAkQAOiN38y+AAAAABJRU5ErkJggg==",
     "contentType": "image/png",
     "groupId": "0",
     "height": 20,
     "width": 20,
     "layerId": 0,
     "layerName": "Concentrations moyennes annuelles en PM10 en 2022 - ZAG Troyes"
    },
    {
     "label": "20.9 - 22.4",
     "imageData": "iVBORw0KGgoAAAANSUhEUgAAABQAAAAUCAYAAACNiR0NAAAACXBIWXMAAA7EAAAOxAGVKw4bAAAAQElEQVQ4jWNhoDJgoZmBV74y/KfEIB1uBkYUA6kFWEYNpBiwUG4EKhg1kHLAQgUzUMCogZQDeBjCyjOqGUgtAAAblAOJ8419kgAAAABJRU5ErkJggg==",
     "contentType": "image/png",
     "groupId": "0",
     "height": 20,
     "width": 20,
     "layerId": 0,
     "layerName": "Concentrations moyennes annuelles en PM10 en 2022 - ZAG Troyes"
    },
    {
     "label": "22.5 - 24",
     "imageData": "iVBORw0KGgoAAAANSUhEUgAAABQAAAAUCAYAAACNiR0NAAAACXBIWXMAAA7EAAAOxAGVKw4bAAAAQElEQVQ4jWNhoDJgoZmBL38x/KfEIHE2BkYUA6kFWEYNpBiwUG4EKhg1kHLAQgUzUMCogZQDeBjCyjOqGUgtAAASjwNvWD/ziwAAAABJRU5ErkJggg==",
     "contentType": "image/png",
     "groupId": "0",
     "height": 20,
     "width": 20,
     "layerId": 0,
     "layerName": "Concentrations moyennes annuelles en PM10 en 2022 - ZAG Troyes"
    },
    {
     "label": "24.1 - 25.6",
     "imageData": "iVBORw0KGgoAAAANSUhEUgAAABQAAAAUCAYAAACNiR0NAAAACXBIWXMAAA7EAAAOxAGVKw4bAAAAPUlEQVQ4je3UoQ0AMBBCUS5h/5Wvqk3QUMcf4AkERDh+A3exDjSDETAVC9rRJ7SCfgwYUkG/t+H9sxiY6gAJMQNUbcp4vQAAAABJRU5ErkJggg==",
     "contentType": "image/png",
     "groupId": "0",
     "height": 20,
     "width": 20,
     "layerId": 0,
     "layerName": "Concentrations moyennes annuelles en PM10 en 2022 - ZAG Troyes"
    },
    {
     "label": "25.7 - 27.2",
     "imageData": "iVBORw0KGgoAAAANSUhEUgAAABQAAAAUCAYAAACNiR0NAAAACXBIWXMAAA7EAAAOxAGVKw4bAAAAQElEQVQ4jWNhoDJgoZmB/98x/KfEIEYhBkYUA6kFWEYNpBiwUG4EKhg1kHLAQgUzUMCogZQDeBjCyjOqGUgtAAAPCQNlz1S3gwAAAABJRU5ErkJggg==",
     "contentType": "image/png",
     "groupId": "0",
     "height": 20,
     "width": 20,
     "layerId": 0,
     "layerName": "Concentrations moyennes annuelles en PM10 en 2022 - ZAG Troyes"
    },
    {
     "label": "27.3 - 28.8",
     "imageData": "iVBORw0KGgoAAAANSUhEUgAAABQAAAAUCAYAAACNiR0NAAAACXBIWXMAAA7EAAAOxAGVKw4bAAAAQElEQVQ4jWNhoDJgoZmB/+8y/KfEIEZlBkYUA6kFWEYNpBiwUG4EKhg1kHLAQgUzUMCogZQDeBjCyjOqGUgtAAAU4QN2hkRgrwAAAABJRU5ErkJggg==",
     "contentType": "image/png",
     "groupId": "0",
     "height": 20,
     "width": 20,
     "layerId": 0,
     "layerName": "Concentrations moyennes annuelles en PM10 en 2022 - ZAG Troyes"
    },
    {
     "label": "28.9 - 30.4",
     "imageData": "iVBORw0KGgoAAAANSUhEUgAAABQAAAAUCAYAAACNiR0NAAAACXBIWXMAAA7EAAAOxAGVKw4bAAAAQElEQVQ4jWNhoDJgoZmB/88w/KfEIEYTBkYUA6kFWEYNpBiwUG4EKhg1kHLAQgUzUMCogZQDeBjCyjOqGUgtAAAauQOHXU5dSAAAAABJRU5ErkJggg==",
     "contentType": "image/png",
     "groupId": "0",
     "height": 20,
     "width": 20,
     "layerId": 0,
     "layerName": "Concentrations moyennes annuelles en PM10 en 2022 - ZAG Troyes"
    },
    {
     "label": "30.5 - 32",
     "imageData": "iVBORw0KGgoAAAANSUhEUgAAABQAAAAUCAYAAACNiR0NAAAACXBIWXMAAA7EAAAOxAGVKw4bAAAAP0lEQVQ4je3UsQ0AIBBCUS5hNad2uLPShBrs7g/wCgqIcPwG9kY7UC2UgKk4oB19QhvQjwFDGtDvbXj/LAamOiCRA5gnRbIGAAAAAElFTkSuQmCC",
     "contentType": "image/png",
     "groupId": "0",
     "height": 20,
     "width": 20,
     "layerId": 0,
     "layerName": "Concentrations moyennes annuelles en PM10 en 2022 - ZAG Troyes"
    },
    {
     "label": "32.1 - 33.6",
     "imageData": "iVBORw0KGgoAAAANSUhEUgAAABQAAAAUCAYAAACNiR0NAAAACXBIWXMAAA7EAAAOxAGVKw4bAAAAP0lEQVQ4je3UsQ0AIBBCUS5hRod0ybPShBrs7g/wCgqIcPwG9kY7UC2UgKk4oB19QhvQjwFDGtDvbXj/LAamOiZpA6lqLs9EAAAAAElFTkSuQmCC",
     "contentType": "image/png",
     "groupId": "0",
     "height": 20,
     "width": 20,
     "layerId": 0,
     "layerName": "Concentrations moyennes annuelles en PM10 en 2022 - ZAG Troyes"
    },
    {
     "label": "33.7 - 35.2",
     "imageData": "iVBORw0KGgoAAAANSUhEUgAAABQAAAAUCAYAAACNiR0NAAAACXBIWXMAAA7EAAAOxAGVKw4bAAAAP0lEQVQ4je3UsQ0AIBBCUS5haEdw67PShBrs7g/wCgqIcPwG9kY7UC2UgKk4oB19QhvQjwFDGtDvbXj/LAamOjIZA8s9YftxAAAAAElFTkSuQmCC",
     "contentType": "image/png",
     "groupId": "0",
     "height": 20,
     "width": 20,
     "layerId": 0,
     "layerName": "Concentrations moyennes annuelles en PM10 en 2022 - ZAG Troyes"
    },
    {
     "label": "35.3 - 36.8",
     "imageData": "iVBORw0KGgoAAAANSUhEUgAAABQAAAAUCAYAAACNiR0NAAAACXBIWXMAAA7EAAAOxAGVKw4bAAAAP0lEQVQ4je3UsQ0AIBBCUS5hVody2bPShBrs7g/wCgqIcPwG9kI7UG2UgKk4oB19QhvQjwFDGtDvbXj/LAamOj3JA+2RslK3AAAAAElFTkSuQmCC",
     "contentType": "image/png",
     "groupId": "0",
     "height": 20,
     "width": 20,
     "layerId": 0,
     "layerName": "Concentrations moyennes annuelles en PM10 en 2022 - ZAG Troyes"
    },
    {
     "label": "36.9 - 38.4",
     "imageData": "iVBORw0KGgoAAAANSUhEUgAAABQAAAAUCAYAAACNiR0NAAAACXBIWXMAAA7EAAAOxAGVKw4bAAAAP0lEQVQ4je3UsQ0AIBBCUS5hNMd2t7PShBrs7g/wCgqIcPwG9kI7UG2UgKk4oB19QhvQjwFDGtDvbXj/LAamOkl5BA/oN0IeAAAAAElFTkSuQmCC",
     "contentType": "image/png",
     "groupId": "0",
     "height": 20,
     "width": 20,
     "layerId": 0,
     "layerName": "Concentrations moyennes annuelles en PM10 en 2022 - ZAG Troyes"
    },
    {
     "label": "38.5 - 40",
     "imageData": "iVBORw0KGgoAAAANSUhEUgAAABQAAAAUCAYAAACNiR0NAAAACXBIWXMAAA7EAAAOxAGVKw4bAAAAQElEQVQ4jWNhoDJgoZmB/5UY/lNiEOM9BkYUA6kFWEYNpBiwUG4EKhg1kHLAQgUzUMCogZQDeBjCyjOqGUgtAABVKQQxm13kKAAAAABJRU5ErkJggg==",
     "contentType": "image/png",
     "groupId": "0",
     "height": 20,
     "width": 20,
     "layerId": 0,
     "layerName": "Concentrations moyennes annuelles en PM10 en 2022 - ZAG Troyes"
    },
    {
     "label": "40.1 - 48",
     "imageData": "iVBORw0KGgoAAAANSUhEUgAAABQAAAAUCAYAAACNiR0NAAAACXBIWXMAAA7EAAAOxAGVKw4bAAAAOklEQVQ4jWNhoDJgoZmB/8GIfMAIRrR0IbUAC9VMgoJRAykHLFQwAwWMGkg5YBnBBjJCyzOqGUgtAABgfwJTnasaYgAAAABJRU5ErkJggg==",
     "contentType": "image/png",
     "groupId": "0",
     "height": 20,
     "width": 20,
     "layerId": 0,
     "layerName": "Concentrations moyennes annuelles en PM10 en 2022 - ZAG Troyes"
    },
    {
     "label": "48.1 - 56",
     "imageData": "iVBORw0KGgoAAAANSUhEUgAAABQAAAAUCAYAAACNiR0NAAAACXBIWXMAAA7EAAAOxAGVKw4bAAAAP0lEQVQ4je3UsQ0AIAACQUyYwv1ncw2tNKEGO36AKyggwvEbuIDtQBMYAqZiQTv6hFbQjwFDKuj3Nrx/FgNTHWkwAmyuBIydAAAAAElFTkSuQmCC",
     "contentType": "image/png",
     "groupId": "0",
     "height": 20,
     "width": 20,
     "layerId": 0,
     "layerName": "Concentrations moyennes annuelles en PM10 en 2022 - ZAG Troyes"
    },
    {
     "label": "56.1 - 64",
     "imageData": "iVBORw0KGgoAAAANSUhEUgAAABQAAAAUCAYAAACNiR0NAAAACXBIWXMAAA7EAAAOxAGVKw4bAAAAP0lEQVQ4je3UsQ0AIAACQUwYyf0ncCetNKEGO36AKyggwvEbuIDtQBMYAqZiQTv6hFbQjwFDKuj3Nrx/FgNTHXI6Aob/hpTEAAAAAElFTkSuQmCC",
     "contentType": "image/png",
     "groupId": "0",
     "height": 20,
     "width": 20,
     "layerId": 0,
     "layerName": "Concentrations moyennes annuelles en PM10 en 2022 - ZAG Troyes"
    },
    {
     "label": "64.1 - 72",
     "imageData": "iVBORw0KGgoAAAANSUhEUgAAABQAAAAUCAYAAACNiR0NAAAACXBIWXMAAA7EAAAOxAGVKw4bAAAAPklEQVQ4je3UsQ0AIAACQUxYz2kdUCtNqMGOH+AKCohw/AYuYDvQBIaAqVjQjj6hFfRjwJAK+r0N75/FwFQHeusCn1LPQ+0AAAAASUVORK5CYII=",
     "contentType": "image/png",
     "groupId": "0",
     "height": 20,
     "width": 20,
     "layerId": 0,
     "layerName": "Concentrations moyennes annuelles en PM10 en 2022 - ZAG Troyes"
    },
    {
     "label": "72.1 - 80",
     "imageData": "iVBORw0KGgoAAAANSUhEUgAAABQAAAAUCAYAAACNiR0NAAAACXBIWXMAAA7EAAAOxAGVKw4bAAAAPklEQVQ4je3UsQ0AIAACQUzY1ZmcVitNqMGOH+AKCohw/AYuYDvQBIaAqVjQjj6hFfRjwJAK+r0N75/FwFQHg/UCuVj7MFAAAAAASUVORK5CYII=",
     "contentType": "image/png",
     "groupId": "0",
     "height": 20,
     "width": 20,
     "layerId": 0,
     "layerName": "Concentrations moyennes annuelles en PM10 en 2022 - ZAG Troyes"
    },
    {
     "label": "80.1 - 120",
     "imageData": "iVBORw0KGgoAAAANSUhEUgAAABQAAAAUCAYAAACNiR0NAAAACXBIWXMAAA7EAAAOxAGVKw4bAAAAPElEQVQ4je3UsQ0AIBQCUUwY/G+uiZXUYMcN8MojwvEbOMB2oAGWgKlY0I4+oRX0Y8CQCvq9P7w/i4GpDoymAtKOdUt1AAAAAElFTkSuQmCC",
     "contentType": "image/png",
     "groupId": "0",
     "height": 20,
     "width": 20,
     "layerId": 0,
     "layerName": "Concentrations moyennes annuelles en PM10 en 2022 - ZAG Troyes"
    },
    {
     "label": "120.1 - 160",
     "imageData": "iVBORw0KGgoAAAANSUhEUgAAABQAAAAUCAYAAACNiR0NAAAACXBIWXMAAA7EAAAOxAGVKw4bAAAAPElEQVQ4je3UsQ0AIBQCUUwY/G+uiZXUYMcN8MojwvEbOMB2oAGWgKlY0I4+oRX0Y8CQCvq9P7w/i4GpDoymAtKOdUt1AAAAAElFTkSuQmCC",
     "contentType": "image/png",
     "groupId": "0",
     "height": 20,
     "width": 20,
     "layerId": 0,
     "layerName": "Concentrations moyennes annuelles en PM10 en 2022 - ZAG Troyes"
    }
   ],
   "layerId": 0,
   "layerName": "Concentrations moyennes annuelles en PM10 en 2022 - ZAG Troyes",
   "serviceItemId": "89175beeb30f448bb2cd2406176c00fd"
  }
 ],
 "initialExtent": {
  "xmin": 435745.25588714,
  "ymin": 6131334.457988737,
  "xmax": 468490.9659213769,
  "ymax": 6166009.2283113245,
  "spatialReference": {
   "wkid": 102100,
   "latestWkid": 3857
  }
 },
 "fullExtent": {
  "xmin": 435745.25588714,
  "ymin": 6131334.457988737,
  "xmax": 468490.9659213769,
  "ymax": 6166009.2283113245,
  "spatialReference": {
   "wkid": 102100,
   "latestWkid": 3857
  }
 },
 "minScale": 0,
 "maxScale": 0,
 "exportTilesAllowed": false,
 "maxExportTilesCount": 0,
 "currentVersion": 11.3,
 "mapName": "Carte",
 "singleFusedMapCache": true,
 "type": "MapServer",
 "supportedExtensions": "",
 "capabilities": "TilesOnly,Tilemap",
 "serviceItemId": "89175beeb30f448bb2cd2406176c00fd"
}
