{
 "version": 1.0,
 "tileBundlesPath": "./tile",
 "storageInfo": {
  "packetSize": 128,
  "storageFormat": "esriMapCacheStorageModeCompactV2"
 },
 "tileImageInfo": {
  "format": "MIXED",
  "compressionQuality": 75,
  "bandCount": 1,
  "lercError": 0
 },
 "tileInfo": {
  "spatialReference": {
   "wkid": 102100,
   "latestWkid": 3857
  },
  "origin": {
   "x": -2.0037508342787E7,
   "y": 2.0037508342787E7
  },
  "rows": 256,
  "cols": 256,
  "dpi": 96,
  "lods": [
   {
    "level": 0,
    "resolution": 156543.033928,
    "scale": 5.91657527591555E8
   },
   {
    "level": 1,
    "resolution": 78271.5169639999,
    "scale": 2.95828763795777E8
   },
   {
    "level": 2,
    "resolution": 39135.7584820001,
    "scale": 1.47914381897889E8
   },
   {
    "level": 3,
    "resolution": 19567.8792409999,
    "scale": 7.3957190948944E7
   },
   {
    "level": 4,
    "resolution": 9783.93962049996,
    "scale": 3.6978595474472E7
   },
   {
    "level": 5,
    "resolution": 4891.96981024998,
    "scale": 1.8489297737236E7
   },
   {
    "level": 6,
    "resolution": 2445.98490512499,
    "scale": 9244648.868618
   },
   {
    "level": 7,
    "resolution": 1222.99245256249,
    "scale": 4622324.434309
   },
   {
    "level": 8,
    "resolution": 611.49622628138,
    "scale": 2311162.217155
   },
   {
    "level": 9,
    "resolution": 305.748113140558,
    "scale": 1155581.108577
   },
   {
    "level": 10,
    "resolution": 152.874056570411,
    "scale": 577790.554289
   },
   {
    "level": 11,
    "resolution": 76.4370282850732,
    "scale": 288895.277144
   },
   {
    "level": 12,
    "resolution": 38.2185141425366,
    "scale": 144447.638572
   },
   {
    "level": 13,
    "resolution": 19.1092570712683,
    "scale": 72223.819286
   },
   {
    "level": 14,
    "resolution": 9.55462853563415,
    "scale": 36111.909643
   },
   {
    "level": 15,
    "resolution": 4.77731426794937,
    "scale": 18055.954822
   },
   {
    "level": 16,
    "resolution": 2.38865713397468,
    "scale": 9027.977411
   },
   {
    "level": 17,
    "resolution": 1.19432856685505,
    "scale": 4513.988705
   },
   {
    "level": 18,
    "resolution": 0.597164283559817,
    "scale": 2256.994353
   },
   {
    "level": 19,
    "resolution": 0.298582141647617,
    "scale": 1128.497176
   },
   {
    "level": 20,
    "resolution": 0.14929107082380833,
    "scale": 564.248588
   },
   {
    "level": 21,
    "resolution": 0.07464553541190416,
    "scale": 282.124294
   },
   {
    "level": 22,
    "resolution": 0.03732276770595208,
    "scale": 141.062147
   },
   {
    "level": 23,
    "resolution": 0.01866138385297604,
    "scale": 70.5310735
   }
  ],
  "format": "MIXED",
  "compressionQuality": 75,
  "bandCount": 1,
  "lercError": 0,
  "storageFormat": "esriMapCacheStorageModeCompactV2",
  "packetSize": 128
 },
 "name": "mod_troyes_2020_pm25_moyan",
 "serviceDescription": "",
 "spatialReference": {
  "wkid": 102100,
  "latestWkid": 3857,
  "xyTolerance": 0.001,
  "zTolerance": 0.001,
  "mTolerance": 0.001,
  "falseX": -20037700,
  "falseY": -30241100,
  "xyUnits": 10000,
  "falseZ": -100000,
  "zUnits": 10000,
  "falseM": -100000,
  "mUnits": 10000
 },
 "units": "esriMeters",
 "minLOD": 9,
 "maxLOD": 16,
 "resampling": true,
 "layers": [
  {
   "id": 0,
   "name": "Concentrations moyennes annuelles en PM2,5 en 2020 - ZAG Troyes",
   "parentLayerId": -1,
   "defaultVisibility": true,
   "subLayerIds": null,
   "minScale": 0,
   "maxScale": 0,
   "type": "Raster Layer",
   "supportsDynamicLegends": true,
   "legend": [
    {
     "label": "0",
     "imageData": "iVBORw0KGgoAAAANSUhEUgAAABQAAAAUCAYAAACNiR0NAAAACXBIWXMAAA7EAAAOxAGVKw4bAAAAL0lEQVQ4jWNhoDJgoZ2BZ1b9p8gkkzBGVAOpBEYNHDVw1MBRA+ltILQ8o56BVAIANZoD3N5ux3QAAAAASUVORK5CYII=",
     "contentType": "image/png",
     "groupId": "0",
     "height": 20,
     "width": 20,
     "layerId": 0,
     "layerName": "Concentrations moyennes annuelles en PM2,5 en 2020 - ZAG Troyes"
    },
    {
     "label": "0.1 - 1",
     "imageData": "iVBORw0KGgoAAAANSUhEUgAAABQAAAAUCAYAAACNiR0NAAAACXBIWXMAAA7EAAAOxAGVKw4bAAAAL0lEQVQ4jWNhoDJgoZ2BZ1b9p8gkkzBGVAOpBEYNHDVw1MBRA+ltILQ8o56BVAIANZoD3N5ux3QAAAAASUVORK5CYII=",
     "contentType": "image/png",
     "groupId": "0",
     "height": 20,
     "width": 20,
     "layerId": 0,
     "layerName": "Concentrations moyennes annuelles en PM2,5 en 2020 - ZAG Troyes"
    },
    {
     "label": "1.1 - 2",
     "imageData": "iVBORw0KGgoAAAANSUhEUgAAABQAAAAUCAYAAACNiR0NAAAACXBIWXMAAA7EAAAOxAGVKw4bAAAAL0lEQVQ4jWNhoDJgoZ2BZ1b9p8gkkzBGVAOpBEYNHDVw1MBRA+ltILQ8o56BVAIANZoD3N5ux3QAAAAASUVORK5CYII=",
     "contentType": "image/png",
     "groupId": "0",
     "height": 20,
     "width": 20,
     "layerId": 0,
     "layerName": "Concentrations moyennes annuelles en PM2,5 en 2020 - ZAG Troyes"
    },
    {
     "label": "2.1 - 3",
     "imageData": "iVBORw0KGgoAAAANSUhEUgAAABQAAAAUCAYAAACNiR0NAAAACXBIWXMAAA7EAAAOxAGVKw4bAAAAL0lEQVQ4jWNhoDJgoZ2BZ1b9p8gkkzBGVAOpBEYNHDVw1MBRA+ltILQ8o56BVAIANZoD3N5ux3QAAAAASUVORK5CYII=",
     "contentType": "image/png",
     "groupId": "0",
     "height": 20,
     "width": 20,
     "layerId": 0,
     "layerName": "Concentrations moyennes annuelles en PM2,5 en 2020 - ZAG Troyes"
    },
    {
     "label": "3.1 - 4",
     "imageData": "iVBORw0KGgoAAAANSUhEUgAAABQAAAAUCAYAAACNiR0NAAAACXBIWXMAAA7EAAAOxAGVKw4bAAAAL0lEQVQ4jWNhoDJgoZ2BZ1b9p8gkkzBGVAOpBEYNHDVw1MBRA+ltILQ8o56BVAIANZoD3N5ux3QAAAAASUVORK5CYII=",
     "contentType": "image/png",
     "groupId": "0",
     "height": 20,
     "width": 20,
     "layerId": 0,
     "layerName": "Concentrations moyennes annuelles en PM2,5 en 2020 - ZAG Troyes"
    },
    {
     "label": "4.1 - 5",
     "imageData": "iVBORw0KGgoAAAANSUhEUgAAABQAAAAUCAYAAACNiR0NAAAACXBIWXMAAA7EAAAOxAGVKw4bAAAAL0lEQVQ4jWNhoDJgoZ2BZ1b9p8gkkzBGVAOpBEYNHDVw1MBRA+ltILQ8o56BVAIANZoD3N5ux3QAAAAASUVORK5CYII=",
     "contentType": "image/png",
     "groupId": "0",
     "height": 20,
     "width": 20,
     "layerId": 0,
     "layerName": "Concentrations moyennes annuelles en PM2,5 en 2020 - ZAG Troyes"
    },
    {
     "label": "5.1 - 6",
     "imageData": "iVBORw0KGgoAAAANSUhEUgAAABQAAAAUCAYAAACNiR0NAAAACXBIWXMAAA7EAAAOxAGVKw4bAAAAL0lEQVQ4jWNhoDJgoZ2BZ1b9p8gkkzBGVAOpBEYNHDVw1MBRA+ltILQ8o56BVAIANZoD3N5ux3QAAAAASUVORK5CYII=",
     "contentType": "image/png",
     "groupId": "0",
     "height": 20,
     "width": 20,
     "layerId": 0,
     "layerName": "Concentrations moyennes annuelles en PM2,5 en 2020 - ZAG Troyes"
    },
    {
     "label": "6.1 - 7",
     "imageData": "iVBORw0KGgoAAAANSUhEUgAAABQAAAAUCAYAAACNiR0NAAAACXBIWXMAAA7EAAAOxAGVKw4bAAAAMUlEQVQ4jWNhoDJgoZmB8hfb/1Ni0EP9SkYUA6kFRg0cNXDUwFED6WwgrDyjmoHUAgA3WgXbMjFI3AAAAABJRU5ErkJggg==",
     "contentType": "image/png",
     "groupId": "0",
     "height": 20,
     "width": 20,
     "layerId": 0,
     "layerName": "Concentrations moyennes annuelles en PM2,5 en 2020 - ZAG Troyes"
    },
    {
     "label": "7.1 - 8",
     "imageData": "iVBORw0KGgoAAAANSUhEUgAAABQAAAAUCAYAAACNiR0NAAAACXBIWXMAAA7EAAAOxAGVKw4bAAAAMUlEQVQ4jWNhoDJgoZmBdtfS/1Ni0CGtmYwoBlILjBo4auCogaMG0tlAWHlGNQOpBQA1uwXX661NagAAAABJRU5ErkJggg==",
     "contentType": "image/png",
     "groupId": "0",
     "height": 20,
     "width": 20,
     "layerId": 0,
     "layerName": "Concentrations moyennes annuelles en PM2,5 en 2020 - ZAG Troyes"
    },
    {
     "label": "8.1 - 9",
     "imageData": "iVBORw0KGgoAAAANSUhEUgAAABQAAAAUCAYAAACNiR0NAAAACXBIWXMAAA7EAAAOxAGVKw4bAAAAMUlEQVQ4jWNhoDJgoZmB0bdd/lNi0FLVPYwoBlILjBo4auCogaMG0tlAWHlGNQOpBQA10wXY1IX3vwAAAABJRU5ErkJggg==",
     "contentType": "image/png",
     "groupId": "0",
     "height": 20,
     "width": 20,
     "layerId": 0,
     "layerName": "Concentrations moyennes annuelles en PM2,5 en 2020 - ZAG Troyes"
    },
    {
     "label": "9.1 - 10",
     "imageData": "iVBORw0KGgoAAAANSUhEUgAAABQAAAAUCAYAAACNiR0NAAAACXBIWXMAAA7EAAAOxAGVKw4bAAAAMUlEQVQ4jWNhoDJgoZmB1Q+U/lNiUKvCPUYUA6kFRg0cNXDUwFED6WwgrDyjmoHUAgA0iQXVha83EgAAAABJRU5ErkJggg==",
     "contentType": "image/png",
     "groupId": "0",
     "height": 20,
     "width": 20,
     "layerId": 0,
     "layerName": "Concentrations moyennes annuelles en PM2,5 en 2020 - ZAG Troyes"
    },
    {
     "label": "10.1 - 11",
     "imageData": "iVBORw0KGgoAAAANSUhEUgAAABQAAAAUCAYAAACNiR0NAAAACXBIWXMAAA7EAAAOxAGVKw4bAAAAMUlEQVQ4jWNhoDJgoZmBM58x/KfEoHQpBkYUA6kFRg0cNXDUwFED6WwgrDyjmoHUAgA1PwPTIjDbYAAAAABJRU5ErkJggg==",
     "contentType": "image/png",
     "groupId": "0",
     "height": 20,
     "width": 20,
     "layerId": 0,
     "layerName": "Concentrations moyennes annuelles en PM2,5 en 2020 - ZAG Troyes"
    },
    {
     "label": "11.1 - 12",
     "imageData": "iVBORw0KGgoAAAANSUhEUgAAABQAAAAUCAYAAACNiR0NAAAACXBIWXMAAA7EAAAOxAGVKw4bAAAAMUlEQVQ4jWNhoDJgoZmBa14z/KfEoBBRBkYUA6kFRg0cNXDUwFED6WwgrDyjmoHUAgAs7AO7yTnskQAAAABJRU5ErkJggg==",
     "contentType": "image/png",
     "groupId": "0",
     "height": 20,
     "width": 20,
     "layerId": 0,
     "layerName": "Concentrations moyennes annuelles en PM2,5 en 2020 - ZAG Troyes"
    },
    {
     "label": "12.1 - 13",
     "imageData": "iVBORw0KGgoAAAANSUhEUgAAABQAAAAUCAYAAACNiR0NAAAACXBIWXMAAA7EAAAOxAGVKw4bAAAAMUlEQVQ4jWNhoDJgoZmBBz4w/KfEIAcBBkYUA6kFRg0cNXDUwFED6WwgrDyjmoHUAgAkQAOihNeGVwAAAABJRU5ErkJggg==",
     "contentType": "image/png",
     "groupId": "0",
     "height": 20,
     "width": 20,
     "layerId": 0,
     "layerName": "Concentrations moyennes annuelles en PM2,5 en 2020 - ZAG Troyes"
    },
    {
     "label": "13.1 - 14",
     "imageData": "iVBORw0KGgoAAAANSUhEUgAAABQAAAAUCAYAAACNiR0NAAAACXBIWXMAAA7EAAAOxAGVKw4bAAAAMUlEQVQ4jWNhoDJgoZmBV74y/KfEIB1uBkYUA6kFRg0cNXDUwFED6WwgrDyjmoHUAgAblAOJEQoWJgAAAABJRU5ErkJggg==",
     "contentType": "image/png",
     "groupId": "0",
     "height": 20,
     "width": 20,
     "layerId": 0,
     "layerName": "Concentrations moyennes annuelles en PM2,5 en 2020 - ZAG Troyes"
    },
    {
     "label": "14.1 - 15",
     "imageData": "iVBORw0KGgoAAAANSUhEUgAAABQAAAAUCAYAAACNiR0NAAAACXBIWXMAAA7EAAAOxAGVKw4bAAAAMUlEQVQ4jWNhoDJgoZmBL38x/KfEIHE2BkYUA6kFRg0cNXDUwFED6WwgrDyjmoHUAgASjwNvPKN+kQAAAABJRU5ErkJggg==",
     "contentType": "image/png",
     "groupId": "0",
     "height": 20,
     "width": 20,
     "layerId": 0,
     "layerName": "Concentrations moyennes annuelles en PM2,5 en 2020 - ZAG Troyes"
    },
    {
     "label": "15.1 - 16",
     "imageData": "iVBORw0KGgoAAAANSUhEUgAAABQAAAAUCAYAAACNiR0NAAAACXBIWXMAAA7EAAAOxAGVKw4bAAAAMUlEQVQ4jWNhoDJgoZmB//8z/KfEIEZGBkYUA6kFRg0cNXDUwFED6WwgrDyjmoHUAgAJMQNUcB1RQwAAAABJRU5ErkJggg==",
     "contentType": "image/png",
     "groupId": "0",
     "height": 20,
     "width": 20,
     "layerId": 0,
     "layerName": "Concentrations moyennes annuelles en PM2,5 en 2020 - ZAG Troyes"
    },
    {
     "label": "16.1 - 17",
     "imageData": "iVBORw0KGgoAAAANSUhEUgAAABQAAAAUCAYAAACNiR0NAAAACXBIWXMAAA7EAAAOxAGVKw4bAAAAMUlEQVQ4jWNhoDJgoZmB/98x/KfEIEYhBkYUA6kFRg0cNXDUwFED6WwgrDyjmoHUAgAPCQNlZHbM/QAAAABJRU5ErkJggg==",
     "contentType": "image/png",
     "groupId": "0",
     "height": 20,
     "width": 20,
     "layerId": 0,
     "layerName": "Concentrations moyennes annuelles en PM2,5 en 2020 - ZAG Troyes"
    },
    {
     "label": "17.1 - 18",
     "imageData": "iVBORw0KGgoAAAANSUhEUgAAABQAAAAUCAYAAACNiR0NAAAACXBIWXMAAA7EAAAOxAGVKw4bAAAAMUlEQVQ4jWNhoDJgoZmB/+8y/KfEIEZlBkYUA6kFRg0cNXDUwFED6WwgrDyjmoHUAgAU4QN2q2FrtQAAAABJRU5ErkJggg==",
     "contentType": "image/png",
     "groupId": "0",
     "height": 20,
     "width": 20,
     "layerId": 0,
     "layerName": "Concentrations moyennes annuelles en PM2,5 en 2020 - ZAG Troyes"
    },
    {
     "label": "18.1 - 19",
     "imageData": "iVBORw0KGgoAAAANSUhEUgAAABQAAAAUCAYAAACNiR0NAAAACXBIWXMAAA7EAAAOxAGVKw4bAAAAMUlEQVQ4jWNhoDJgoZmB/88w/KfEIEYTBkYUA6kFRg0cNXDUwFED6WwgrDyjmoHUAgAauQOHSZSytQAAAABJRU5ErkJggg==",
     "contentType": "image/png",
     "groupId": "0",
     "height": 20,
     "width": 20,
     "layerId": 0,
     "layerName": "Concentrations moyennes annuelles en PM2,5 en 2020 - ZAG Troyes"
    },
    {
     "label": "19.1 - 20",
     "imageData": "iVBORw0KGgoAAAANSUhEUgAAABQAAAAUCAYAAACNiR0NAAAACXBIWXMAAA7EAAAOxAGVKw4bAAAAMUlEQVQ4jWNhoDJgoZmB/3cz/KfEIEZXBkYUA6kFRg0cNXDUwFED6WwgrDyjmoHUAgAgkQOYHLV19AAAAABJRU5ErkJggg==",
     "contentType": "image/png",
     "groupId": "0",
     "height": 20,
     "width": 20,
     "layerId": 0,
     "layerName": "Concentrations moyennes annuelles en PM2,5 en 2020 - ZAG Troyes"
    },
    {
     "label": "20.1 - 21",
     "imageData": "iVBORw0KGgoAAAANSUhEUgAAABQAAAAUCAYAAACNiR0NAAAACXBIWXMAAA7EAAAOxAGVKw4bAAAAMUlEQVQ4jWNhoDJgoZmB/1cx/KfEIMYwBkYUA6kFRg0cNXDUwFED6WwgrDyjmoHUAgAmaQOpc7oJQgAAAABJRU5ErkJggg==",
     "contentType": "image/png",
     "groupId": "0",
     "height": 20,
     "width": 20,
     "layerId": 0,
     "layerName": "Concentrations moyennes annuelles en PM2,5 en 2020 - ZAG Troyes"
    },
    {
     "label": "21.1 - 22",
     "imageData": "iVBORw0KGgoAAAANSUhEUgAAABQAAAAUCAYAAACNiR0NAAAACXBIWXMAAA7EAAAOxAGVKw4bAAAAMUlEQVQ4jWNhoDJgoZmB/zsY/lNiEGMFAyOKgdQCowaOGjhq4KiBdDYQVp5RzUBqAQAyGQPLtz0zIgAAAABJRU5ErkJggg==",
     "contentType": "image/png",
     "groupId": "0",
     "height": 20,
     "width": 20,
     "layerId": 0,
     "layerName": "Concentrations moyennes annuelles en PM2,5 en 2020 - ZAG Troyes"
    },
    {
     "label": "22.1 - 23",
     "imageData": "iVBORw0KGgoAAAANSUhEUgAAABQAAAAUCAYAAACNiR0NAAAACXBIWXMAAA7EAAAOxAGVKw4bAAAAMUlEQVQ4jWNhoDJgoZmB/9MY/lNiEOMsBkYUA6kFRg0cNXDUwFED6WwgrDyjmoHUAgA9yQPtoljOmgAAAABJRU5ErkJggg==",
     "contentType": "image/png",
     "groupId": "0",
     "height": 20,
     "width": 20,
     "layerId": 0,
     "layerName": "Concentrations moyennes annuelles en PM2,5 en 2020 - ZAG Troyes"
    },
    {
     "label": "23.1 - 24",
     "imageData": "iVBORw0KGgoAAAANSUhEUgAAABQAAAAUCAYAAACNiR0NAAAACXBIWXMAAA7EAAAOxAGVKw4bAAAAMUlEQVQ4jWNhoDJgoZmB/10Y/lNiEOMeBkYUA6kFRg0cNXDUwFED6WwgrDyjmoHUAgBJeQQP91Ig9gAAAABJRU5ErkJggg==",
     "contentType": "image/png",
     "groupId": "0",
     "height": 20,
     "width": 20,
     "layerId": 0,
     "layerName": "Concentrations moyennes annuelles en PM2,5 en 2020 - ZAG Troyes"
    },
    {
     "label": "24.1 - 25",
     "imageData": "iVBORw0KGgoAAAANSUhEUgAAABQAAAAUCAYAAACNiR0NAAAACXBIWXMAAA7EAAAOxAGVKw4bAAAAMUlEQVQ4jWNhoDJgoZmB/5UY/lNiEOM9BkYUA6kFRg0cNXDUwFED6WwgrDyjmoHUAgBVKQQx9R1rlgAAAABJRU5ErkJggg==",
     "contentType": "image/png",
     "groupId": "0",
     "height": 20,
     "width": 20,
     "layerId": 0,
     "layerName": "Concentrations moyennes annuelles en PM2,5 en 2020 - ZAG Troyes"
    },
    {
     "label": "25.1 - 30",
     "imageData": "iVBORw0KGgoAAAANSUhEUgAAABQAAAAUCAYAAACNiR0NAAAACXBIWXMAAA7EAAAOxAGVKw4bAAAAMUlEQVQ4jWNhoDJgoZmB/xkY/lNiECMDAyOKgdQCowaOGjhq4KiBdDYQVp5RzUBqAQBgfwJTXu298gAAAABJRU5ErkJggg==",
     "contentType": "image/png",
     "groupId": "0",
     "height": 20,
     "width": 20,
     "layerId": 0,
     "layerName": "Concentrations moyennes annuelles en PM2,5 en 2020 - ZAG Troyes"
    },
    {
     "label": "30.1 - 35",
     "imageData": "iVBORw0KGgoAAAANSUhEUgAAABQAAAAUCAYAAACNiR0NAAAACXBIWXMAAA7EAAAOxAGVKw4bAAAAMUlEQVQ4jWNhoDJgoZmBzxgY/lNikBQDAyOKgdQCowaOGjhq4KiBdDYQVp5RzUBqAQBpMAJs0IW6GwAAAABJRU5ErkJggg==",
     "contentType": "image/png",
     "groupId": "0",
     "height": 20,
     "width": 20,
     "layerId": 0,
     "layerName": "Concentrations moyennes annuelles en PM2,5 en 2020 - ZAG Troyes"
    },
    {
     "label": "35.1 - 40",
     "imageData": "iVBORw0KGgoAAAANSUhEUgAAABQAAAAUCAYAAACNiR0NAAAACXBIWXMAAA7EAAAOxAGVKw4bAAAAMUlEQVQ4jWNhoDJgoZmBZxgY/lNikAkDAyOKgdQCowaOGjhq4KiBdDYQVp5RzUBqAQByOgKGXLrWXgAAAABJRU5ErkJggg==",
     "contentType": "image/png",
     "groupId": "0",
     "height": 20,
     "width": 20,
     "layerId": 0,
     "layerName": "Concentrations moyennes annuelles en PM2,5 en 2020 - ZAG Troyes"
    },
    {
     "label": "40.1 - 45",
     "imageData": "iVBORw0KGgoAAAANSUhEUgAAABQAAAAUCAYAAACNiR0NAAAACXBIWXMAAA7EAAAOxAGVKw4bAAAAMUlEQVQ4jWNhoDJgoZmBmxkY/lNikC8DAyOKgdQCowaOGjhq4KiBdDYQVp5RzUBqAQB66wKfqxByhAAAAABJRU5ErkJggg==",
     "contentType": "image/png",
     "groupId": "0",
     "height": 20,
     "width": 20,
     "layerId": 0,
     "layerName": "Concentrations moyennes annuelles en PM2,5 en 2020 - ZAG Troyes"
    },
    {
     "label": "45.1 - 50",
     "imageData": "iVBORw0KGgoAAAANSUhEUgAAABQAAAAUCAYAAACNiR0NAAAACXBIWXMAAA7EAAAOxAGVKw4bAAAAMUlEQVQ4jWNhoDJgoZmBMxkY/lNiUDoDAyOKgdQCowaOGjhq4KiBdDYQVp5RzUBqAQCD9QK5mJMmjgAAAABJRU5ErkJggg==",
     "contentType": "image/png",
     "groupId": "0",
     "height": 20,
     "width": 20,
     "layerId": 0,
     "layerName": "Concentrations moyennes annuelles en PM2,5 en 2020 - ZAG Troyes"
    },
    {
     "label": "50.1 - 75",
     "imageData": "iVBORw0KGgoAAAANSUhEUgAAABQAAAAUCAYAAACNiR0NAAAACXBIWXMAAA7EAAAOxAGVKw4bAAAAMklEQVQ4jWNhoDJgoZmBDQwM/ykxqIGBgRHFQGqBUQNHDRw1cNRAOhvYAC3PqGYgtQAAjKYC0j5F6dMAAAAASUVORK5CYII=",
     "contentType": "image/png",
     "groupId": "0",
     "height": 20,
     "width": 20,
     "layerId": 0,
     "layerName": "Concentrations moyennes annuelles en PM2,5 en 2020 - ZAG Troyes"
    },
    {
     "label": "75.1 - 100",
     "imageData": "iVBORw0KGgoAAAANSUhEUgAAABQAAAAUCAYAAACNiR0NAAAACXBIWXMAAA7EAAAOxAGVKw4bAAAAMklEQVQ4jWNhoDJgoZmBDQwM/ykxqIGBgRHFQGqBUQNHDRw1cNRAOhvYAC3PqGYgtQAAjKYC0j5F6dMAAAAASUVORK5CYII=",
     "contentType": "image/png",
     "groupId": "0",
     "height": 20,
     "width": 20,
     "layerId": 0,
     "layerName": "Concentrations moyennes annuelles en PM2,5 en 2020 - ZAG Troyes"
    }
   ],
   "layerId": 0,
   "layerName": "Concentrations moyennes annuelles en PM2,5 en 2020 - ZAG Troyes",
   "serviceItemId": "a634f3b417134ae6a99cd0c8211d325a"
  }
 ],
 "initialExtent": {
  "xmin": 438145.6913180334,
  "ymin": 6133586.434036898,
  "xmax": 466191.9666521495,
  "ymax": 6163752.855429203,
  "spatialReference": {
   "wkid": 102100,
   "latestWkid": 3857,
   "xyTolerance": 0.001,
   "zTolerance": 0.001,
   "mTolerance": 0.001,
   "falseX": -20037700,
   "falseY": -30241100,
   "xyUnits": 10000,
   "falseZ": -100000,
   "zUnits": 10000,
   "falseM": -100000,
   "mUnits": 10000
  }
 },
 "fullExtent": {
  "xmin": 438145.6913180334,
  "ymin": 6133586.434036898,
  "xmax": 466191.9666521495,
  "ymax": 6163752.855429203,
  "spatialReference": {
   "wkid": 102100,
   "latestWkid": 3857,
   "xyTolerance": 0.001,
   "zTolerance": 0.001,
   "mTolerance": 0.001,
   "falseX": -20037700,
   "falseY": -30241100,
   "xyUnits": 10000,
   "falseZ": -100000,
   "zUnits": 10000,
   "falseM": -100000,
   "mUnits": 10000
  }
 },
 "minScale": 0,
 "maxScale": 0,
 "exportTilesAllowed": false,
 "maxExportTilesCount": 0,
 "currentVersion": 11.3,
 "mapName": "mod_troyes_2020_pm25_moyan",
 "singleFusedMapCache": true,
 "type": "MapServer",
 "supportedExtensions": "",
 "capabilities": "TilesOnly,Tilemap",
 "serviceItemId": "a634f3b417134ae6a99cd0c8211d325a"
}
