{
 "version": 1.0,
 "tileBundlesPath": "./tile",
 "storageInfo": {
  "packetSize": 128,
  "storageFormat": "esriMapCacheStorageModeCompactV2"
 },
 "tileImageInfo": {
  "format": "Mixed",
  "compressionQuality": 75,
  "bandCount": 1,
  "lercError": 0
 },
 "tileInfo": {
  "spatialReference": {
   "wkid": 102100,
   "latestWkid": 3857
  },
  "origin": {
   "x": -2.0037508342787E7,
   "y": 2.0037508342787E7
  },
  "rows": 256,
  "cols": 256,
  "dpi": 96,
  "lods": [
   {
    "level": 0,
    "resolution": 156543.033928,
    "scale": 5.91657527591555E8
   },
   {
    "level": 1,
    "resolution": 78271.5169639999,
    "scale": 2.95828763795777E8
   },
   {
    "level": 2,
    "resolution": 39135.7584820001,
    "scale": 1.47914381897889E8
   },
   {
    "level": 3,
    "resolution": 19567.8792409999,
    "scale": 7.3957190948944E7
   },
   {
    "level": 4,
    "resolution": 9783.93962049996,
    "scale": 3.6978595474472E7
   },
   {
    "level": 5,
    "resolution": 4891.96981024998,
    "scale": 1.8489297737236E7
   },
   {
    "level": 6,
    "resolution": 2445.98490512499,
    "scale": 9244648.868618
   },
   {
    "level": 7,
    "resolution": 1222.99245256249,
    "scale": 4622324.434309
   },
   {
    "level": 8,
    "resolution": 611.49622628138,
    "scale": 2311162.217155
   },
   {
    "level": 9,
    "resolution": 305.748113140558,
    "scale": 1155581.108577
   },
   {
    "level": 10,
    "resolution": 152.874056570411,
    "scale": 577790.554289
   },
   {
    "level": 11,
    "resolution": 76.4370282850732,
    "scale": 288895.277144
   },
   {
    "level": 12,
    "resolution": 38.2185141425366,
    "scale": 144447.638572
   },
   {
    "level": 13,
    "resolution": 19.1092570712683,
    "scale": 72223.819286
   },
   {
    "level": 14,
    "resolution": 9.55462853563415,
    "scale": 36111.909643
   },
   {
    "level": 15,
    "resolution": 4.77731426794937,
    "scale": 18055.954822
   },
   {
    "level": 16,
    "resolution": 2.38865713397468,
    "scale": 9027.977411
   },
   {
    "level": 17,
    "resolution": 1.19432856685505,
    "scale": 4513.988705
   },
   {
    "level": 18,
    "resolution": 0.597164283559817,
    "scale": 2256.994353
   },
   {
    "level": 19,
    "resolution": 0.298582141647617,
    "scale": 1128.497176
   },
   {
    "level": 20,
    "resolution": 0.14929107082380833,
    "scale": 564.248588
   },
   {
    "level": 21,
    "resolution": 0.07464553541190416,
    "scale": 282.124294
   },
   {
    "level": 22,
    "resolution": 0.03732276770595208,
    "scale": 141.062147
   },
   {
    "level": 23,
    "resolution": 0.01866138385297604,
    "scale": 70.5310735
   }
  ],
  "format": "Mixed",
  "compressionQuality": 75,
  "bandCount": 1,
  "lercError": 0,
  "storageFormat": "esriMapCacheStorageModeCompactV2",
  "packetSize": 128
 },
 "name": "mod_mulhouse_2018_no2_moyan",
 "serviceDescription": "",
 "spatialReference": {
  "wkid": 102100,
  "latestWkid": 3857,
  "xyTolerance": 0.001,
  "zTolerance": 0.001,
  "mTolerance": 0.001,
  "falseX": -20037700,
  "falseY": -30241100,
  "xyUnits": 10000,
  "falseZ": -100000,
  "zUnits": 10000,
  "falseM": -100000,
  "mUnits": 10000
 },
 "units": "esriMeters",
 "minLOD": 9,
 "maxLOD": 16,
 "resampling": true,
 "layers": [
  {
   "id": 0,
   "name": "Concentrations moyennes annuelles en NO2 en 2018 - ZAG Mulhouse",
   "parentLayerId": -1,
   "defaultVisibility": true,
   "subLayerIds": null,
   "minScale": 0,
   "maxScale": 0,
   "type": "Raster Layer",
   "supportsDynamicLegends": true,
   "legend": [
    {
     "label": "0",
     "imageData": "iVBORw0KGgoAAAANSUhEUgAAABQAAAAUCAYAAACNiR0NAAAACXBIWXMAAA7EAAAOxAGVKw4bAAAAL0lEQVQ4jWNhoDJgoZ2BZ1b9p8gkkzBGVAOpBEYNHDVw1MBRA+ltILQ8o56BVAIANZoD3N5ux3QAAAAASUVORK5CYII=",
     "contentType": "image/png",
     "groupId": "0",
     "height": 20,
     "width": 20,
     "layerId": 0,
     "layerName": "Concentrations moyennes annuelles en NO2 en 2018 - ZAG Mulhouse"
    },
    {
     "label": "0.1 - 1.6",
     "imageData": "iVBORw0KGgoAAAANSUhEUgAAABQAAAAUCAYAAACNiR0NAAAACXBIWXMAAA7EAAAOxAGVKw4bAAAAL0lEQVQ4jWNhoDJgoZ2BZ1b9p8gkkzBGVAOpBEYNHDVw1MBRA+ltILQ8o56BVAIANZoD3N5ux3QAAAAASUVORK5CYII=",
     "contentType": "image/png",
     "groupId": "0",
     "height": 20,
     "width": 20,
     "layerId": 0,
     "layerName": "Concentrations moyennes annuelles en NO2 en 2018 - ZAG Mulhouse"
    },
    {
     "label": "1.7 - 3.2",
     "imageData": "iVBORw0KGgoAAAANSUhEUgAAABQAAAAUCAYAAACNiR0NAAAACXBIWXMAAA7EAAAOxAGVKw4bAAAAL0lEQVQ4jWNhoDJgoZ2BZ1b9p8gkkzBGVAOpBEYNHDVw1MBRA+ltILQ8o56BVAIANZoD3N5ux3QAAAAASUVORK5CYII=",
     "contentType": "image/png",
     "groupId": "0",
     "height": 20,
     "width": 20,
     "layerId": 0,
     "layerName": "Concentrations moyennes annuelles en NO2 en 2018 - ZAG Mulhouse"
    },
    {
     "label": "3.3 - 4.8",
     "imageData": "iVBORw0KGgoAAAANSUhEUgAAABQAAAAUCAYAAACNiR0NAAAACXBIWXMAAA7EAAAOxAGVKw4bAAAAL0lEQVQ4jWNhoDJgoZ2BZ1b9p8gkkzBGVAOpBEYNHDVw1MBRA+ltILQ8o56BVAIANZoD3N5ux3QAAAAASUVORK5CYII=",
     "contentType": "image/png",
     "groupId": "0",
     "height": 20,
     "width": 20,
     "layerId": 0,
     "layerName": "Concentrations moyennes annuelles en NO2 en 2018 - ZAG Mulhouse"
    },
    {
     "label": "4.9 - 6.4",
     "imageData": "iVBORw0KGgoAAAANSUhEUgAAABQAAAAUCAYAAACNiR0NAAAACXBIWXMAAA7EAAAOxAGVKw4bAAAAL0lEQVQ4jWNhoDJgoZ2BZ1b9p8gkkzBGVAOpBEYNHDVw1MBRA+ltILQ8o56BVAIANZoD3N5ux3QAAAAASUVORK5CYII=",
     "contentType": "image/png",
     "groupId": "0",
     "height": 20,
     "width": 20,
     "layerId": 0,
     "layerName": "Concentrations moyennes annuelles en NO2 en 2018 - ZAG Mulhouse"
    },
    {
     "label": "6.5 - 8",
     "imageData": "iVBORw0KGgoAAAANSUhEUgAAABQAAAAUCAYAAACNiR0NAAAACXBIWXMAAA7EAAAOxAGVKw4bAAAAL0lEQVQ4jWNhoDJgoZ2BZ1b9p8gkkzBGVAOpBEYNHDVw1MBRA+ltILQ8o56BVAIANZoD3N5ux3QAAAAASUVORK5CYII=",
     "contentType": "image/png",
     "groupId": "0",
     "height": 20,
     "width": 20,
     "layerId": 0,
     "layerName": "Concentrations moyennes annuelles en NO2 en 2018 - ZAG Mulhouse"
    },
    {
     "label": "8.1 - 9.6",
     "imageData": "iVBORw0KGgoAAAANSUhEUgAAABQAAAAUCAYAAACNiR0NAAAACXBIWXMAAA7EAAAOxAGVKw4bAAAAL0lEQVQ4jWNhoDJgoZ2BZ1b9p8gkkzBGVAOpBEYNHDVw1MBRA+ltILQ8o56BVAIANZoD3N5ux3QAAAAASUVORK5CYII=",
     "contentType": "image/png",
     "groupId": "0",
     "height": 20,
     "width": 20,
     "layerId": 0,
     "layerName": "Concentrations moyennes annuelles en NO2 en 2018 - ZAG Mulhouse"
    },
    {
     "label": "9.7 - 11.2",
     "imageData": "iVBORw0KGgoAAAANSUhEUgAAABQAAAAUCAYAAACNiR0NAAAACXBIWXMAAA7EAAAOxAGVKw4bAAAAMUlEQVQ4jWNhoDJgoZmB8hfb/1Ni0EP9SkYUA6kFRg0cNXDUwFED6WwgrDyjmoHUAgA3WgXbMjFI3AAAAABJRU5ErkJggg==",
     "contentType": "image/png",
     "groupId": "0",
     "height": 20,
     "width": 20,
     "layerId": 0,
     "layerName": "Concentrations moyennes annuelles en NO2 en 2018 - ZAG Mulhouse"
    },
    {
     "label": "11.3 - 12.8",
     "imageData": "iVBORw0KGgoAAAANSUhEUgAAABQAAAAUCAYAAACNiR0NAAAACXBIWXMAAA7EAAAOxAGVKw4bAAAAMUlEQVQ4jWNhoDJgoZmBdtfS/1Ni0CGtmYwoBlILjBo4auCogaMG0tlAWHlGNQOpBQA1uwXX661NagAAAABJRU5ErkJggg==",
     "contentType": "image/png",
     "groupId": "0",
     "height": 20,
     "width": 20,
     "layerId": 0,
     "layerName": "Concentrations moyennes annuelles en NO2 en 2018 - ZAG Mulhouse"
    },
    {
     "label": "12.9 - 14.4",
     "imageData": "iVBORw0KGgoAAAANSUhEUgAAABQAAAAUCAYAAACNiR0NAAAACXBIWXMAAA7EAAAOxAGVKw4bAAAAMUlEQVQ4jWNhoDJgoZmB0bdd/lNi0FLVPYwoBlILjBo4auCogaMG0tlAWHlGNQOpBQA10wXY1IX3vwAAAABJRU5ErkJggg==",
     "contentType": "image/png",
     "groupId": "0",
     "height": 20,
     "width": 20,
     "layerId": 0,
     "layerName": "Concentrations moyennes annuelles en NO2 en 2018 - ZAG Mulhouse"
    },
    {
     "label": "14.5 - 16",
     "imageData": "iVBORw0KGgoAAAANSUhEUgAAABQAAAAUCAYAAACNiR0NAAAACXBIWXMAAA7EAAAOxAGVKw4bAAAAMUlEQVQ4jWNhoDJgoZmB1Q+U/lNiUKvCPUYUA6kFRg0cNXDUwFED6WwgrDyjmoHUAgA0iQXVha83EgAAAABJRU5ErkJggg==",
     "contentType": "image/png",
     "groupId": "0",
     "height": 20,
     "width": 20,
     "layerId": 0,
     "layerName": "Concentrations moyennes annuelles en NO2 en 2018 - ZAG Mulhouse"
    },
    {
     "label": "16.1 - 17.6",
     "imageData": "iVBORw0KGgoAAAANSUhEUgAAABQAAAAUCAYAAACNiR0NAAAACXBIWXMAAA7EAAAOxAGVKw4bAAAAMUlEQVQ4jWNhoDJgoZmBM58x/KfEoHQpBkYUA6kFRg0cNXDUwFED6WwgrDyjmoHUAgA1PwPTIjDbYAAAAABJRU5ErkJggg==",
     "contentType": "image/png",
     "groupId": "0",
     "height": 20,
     "width": 20,
     "layerId": 0,
     "layerName": "Concentrations moyennes annuelles en NO2 en 2018 - ZAG Mulhouse"
    },
    {
     "label": "17.7 - 19.2",
     "imageData": "iVBORw0KGgoAAAANSUhEUgAAABQAAAAUCAYAAACNiR0NAAAACXBIWXMAAA7EAAAOxAGVKw4bAAAAMUlEQVQ4jWNhoDJgoZmBa14z/KfEoBBRBkYUA6kFRg0cNXDUwFED6WwgrDyjmoHUAgAs7AO7yTnskQAAAABJRU5ErkJggg==",
     "contentType": "image/png",
     "groupId": "0",
     "height": 20,
     "width": 20,
     "layerId": 0,
     "layerName": "Concentrations moyennes annuelles en NO2 en 2018 - ZAG Mulhouse"
    },
    {
     "label": "19.3 - 20.8",
     "imageData": "iVBORw0KGgoAAAANSUhEUgAAABQAAAAUCAYAAACNiR0NAAAACXBIWXMAAA7EAAAOxAGVKw4bAAAAMUlEQVQ4jWNhoDJgoZmBBz4w/KfEIAcBBkYUA6kFRg0cNXDUwFED6WwgrDyjmoHUAgAkQAOihNeGVwAAAABJRU5ErkJggg==",
     "contentType": "image/png",
     "groupId": "0",
     "height": 20,
     "width": 20,
     "layerId": 0,
     "layerName": "Concentrations moyennes annuelles en NO2 en 2018 - ZAG Mulhouse"
    },
    {
     "label": "20.9 - 22.4",
     "imageData": "iVBORw0KGgoAAAANSUhEUgAAABQAAAAUCAYAAACNiR0NAAAACXBIWXMAAA7EAAAOxAGVKw4bAAAAMUlEQVQ4jWNhoDJgoZmBV74y/KfEIB1uBkYUA6kFRg0cNXDUwFED6WwgrDyjmoHUAgAblAOJEQoWJgAAAABJRU5ErkJggg==",
     "contentType": "image/png",
     "groupId": "0",
     "height": 20,
     "width": 20,
     "layerId": 0,
     "layerName": "Concentrations moyennes annuelles en NO2 en 2018 - ZAG Mulhouse"
    },
    {
     "label": "22.5 - 24",
     "imageData": "iVBORw0KGgoAAAANSUhEUgAAABQAAAAUCAYAAACNiR0NAAAACXBIWXMAAA7EAAAOxAGVKw4bAAAAMUlEQVQ4jWNhoDJgoZmBL38x/KfEIHE2BkYUA6kFRg0cNXDUwFED6WwgrDyjmoHUAgASjwNvPKN+kQAAAABJRU5ErkJggg==",
     "contentType": "image/png",
     "groupId": "0",
     "height": 20,
     "width": 20,
     "layerId": 0,
     "layerName": "Concentrations moyennes annuelles en NO2 en 2018 - ZAG Mulhouse"
    },
    {
     "label": "24.1 - 25.6",
     "imageData": "iVBORw0KGgoAAAANSUhEUgAAABQAAAAUCAYAAACNiR0NAAAACXBIWXMAAA7EAAAOxAGVKw4bAAAAMUlEQVQ4jWNhoDJgoZmB//8z/KfEIEZGBkYUA6kFRg0cNXDUwFED6WwgrDyjmoHUAgAJMQNUcB1RQwAAAABJRU5ErkJggg==",
     "contentType": "image/png",
     "groupId": "0",
     "height": 20,
     "width": 20,
     "layerId": 0,
     "layerName": "Concentrations moyennes annuelles en NO2 en 2018 - ZAG Mulhouse"
    },
    {
     "label": "25.7 - 27.2",
     "imageData": "iVBORw0KGgoAAAANSUhEUgAAABQAAAAUCAYAAACNiR0NAAAACXBIWXMAAA7EAAAOxAGVKw4bAAAAMUlEQVQ4jWNhoDJgoZmB/98x/KfEIEYhBkYUA6kFRg0cNXDUwFED6WwgrDyjmoHUAgAPCQNlZHbM/QAAAABJRU5ErkJggg==",
     "contentType": "image/png",
     "groupId": "0",
     "height": 20,
     "width": 20,
     "layerId": 0,
     "layerName": "Concentrations moyennes annuelles en NO2 en 2018 - ZAG Mulhouse"
    },
    {
     "label": "27.3 - 28.8",
     "imageData": "iVBORw0KGgoAAAANSUhEUgAAABQAAAAUCAYAAACNiR0NAAAACXBIWXMAAA7EAAAOxAGVKw4bAAAAMUlEQVQ4jWNhoDJgoZmB/+8y/KfEIEZlBkYUA6kFRg0cNXDUwFED6WwgrDyjmoHUAgAU4QN2q2FrtQAAAABJRU5ErkJggg==",
     "contentType": "image/png",
     "groupId": "0",
     "height": 20,
     "width": 20,
     "layerId": 0,
     "layerName": "Concentrations moyennes annuelles en NO2 en 2018 - ZAG Mulhouse"
    },
    {
     "label": "28.9 - 30.4",
     "imageData": "iVBORw0KGgoAAAANSUhEUgAAABQAAAAUCAYAAACNiR0NAAAACXBIWXMAAA7EAAAOxAGVKw4bAAAAMUlEQVQ4jWNhoDJgoZmB/88w/KfEIEYTBkYUA6kFRg0cNXDUwFED6WwgrDyjmoHUAgAauQOHSZSytQAAAABJRU5ErkJggg==",
     "contentType": "image/png",
     "groupId": "0",
     "height": 20,
     "width": 20,
     "layerId": 0,
     "layerName": "Concentrations moyennes annuelles en NO2 en 2018 - ZAG Mulhouse"
    },
    {
     "label": "30.5 - 32",
     "imageData": "iVBORw0KGgoAAAANSUhEUgAAABQAAAAUCAYAAACNiR0NAAAACXBIWXMAAA7EAAAOxAGVKw4bAAAAMUlEQVQ4jWNhoDJgoZmB/3cz/KfEIEZXBkYUA6kFRg0cNXDUwFED6WwgrDyjmoHUAgAgkQOYHLV19AAAAABJRU5ErkJggg==",
     "contentType": "image/png",
     "groupId": "0",
     "height": 20,
     "width": 20,
     "layerId": 0,
     "layerName": "Concentrations moyennes annuelles en NO2 en 2018 - ZAG Mulhouse"
    },
    {
     "label": "32.1 - 33.6",
     "imageData": "iVBORw0KGgoAAAANSUhEUgAAABQAAAAUCAYAAACNiR0NAAAACXBIWXMAAA7EAAAOxAGVKw4bAAAAMUlEQVQ4jWNhoDJgoZmB/1cx/KfEIMYwBkYUA6kFRg0cNXDUwFED6WwgrDyjmoHUAgAmaQOpc7oJQgAAAABJRU5ErkJggg==",
     "contentType": "image/png",
     "groupId": "0",
     "height": 20,
     "width": 20,
     "layerId": 0,
     "layerName": "Concentrations moyennes annuelles en NO2 en 2018 - ZAG Mulhouse"
    },
    {
     "label": "33.7 - 35.2",
     "imageData": "iVBORw0KGgoAAAANSUhEUgAAABQAAAAUCAYAAACNiR0NAAAACXBIWXMAAA7EAAAOxAGVKw4bAAAAMUlEQVQ4jWNhoDJgoZmB/zsY/lNiEGMFAyOKgdQCowaOGjhq4KiBdDYQVp5RzUBqAQAyGQPLtz0zIgAAAABJRU5ErkJggg==",
     "contentType": "image/png",
     "groupId": "0",
     "height": 20,
     "width": 20,
     "layerId": 0,
     "layerName": "Concentrations moyennes annuelles en NO2 en 2018 - ZAG Mulhouse"
    },
    {
     "label": "35.3 - 36.8",
     "imageData": "iVBORw0KGgoAAAANSUhEUgAAABQAAAAUCAYAAACNiR0NAAAACXBIWXMAAA7EAAAOxAGVKw4bAAAAMUlEQVQ4jWNhoDJgoZmB/9MY/lNiEOMsBkYUA6kFRg0cNXDUwFED6WwgrDyjmoHUAgA9yQPtoljOmgAAAABJRU5ErkJggg==",
     "contentType": "image/png",
     "groupId": "0",
     "height": 20,
     "width": 20,
     "layerId": 0,
     "layerName": "Concentrations moyennes annuelles en NO2 en 2018 - ZAG Mulhouse"
    },
    {
     "label": "36.9 - 38.4",
     "imageData": "iVBORw0KGgoAAAANSUhEUgAAABQAAAAUCAYAAACNiR0NAAAACXBIWXMAAA7EAAAOxAGVKw4bAAAAMUlEQVQ4jWNhoDJgoZmB/10Y/lNiEOMeBkYUA6kFRg0cNXDUwFED6WwgrDyjmoHUAgBJeQQP91Ig9gAAAABJRU5ErkJggg==",
     "contentType": "image/png",
     "groupId": "0",
     "height": 20,
     "width": 20,
     "layerId": 0,
     "layerName": "Concentrations moyennes annuelles en NO2 en 2018 - ZAG Mulhouse"
    },
    {
     "label": "38.5 - 40",
     "imageData": "iVBORw0KGgoAAAANSUhEUgAAABQAAAAUCAYAAACNiR0NAAAACXBIWXMAAA7EAAAOxAGVKw4bAAAAMUlEQVQ4jWNhoDJgoZmB/5UY/lNiEOM9BkYUA6kFRg0cNXDUwFED6WwgrDyjmoHUAgBVKQQx9R1rlgAAAABJRU5ErkJggg==",
     "contentType": "image/png",
     "groupId": "0",
     "height": 20,
     "width": 20,
     "layerId": 0,
     "layerName": "Concentrations moyennes annuelles en NO2 en 2018 - ZAG Mulhouse"
    },
    {
     "label": "40.1 - 48",
     "imageData": "iVBORw0KGgoAAAANSUhEUgAAABQAAAAUCAYAAACNiR0NAAAACXBIWXMAAA7EAAAOxAGVKw4bAAAAMUlEQVQ4jWNhoDJgoZmB/xkY/lNiECMDAyOKgdQCowaOGjhq4KiBdDYQVp5RzUBqAQBgfwJTXu298gAAAABJRU5ErkJggg==",
     "contentType": "image/png",
     "groupId": "0",
     "height": 20,
     "width": 20,
     "layerId": 0,
     "layerName": "Concentrations moyennes annuelles en NO2 en 2018 - ZAG Mulhouse"
    },
    {
     "label": "48.1 - 56",
     "imageData": "iVBORw0KGgoAAAANSUhEUgAAABQAAAAUCAYAAACNiR0NAAAACXBIWXMAAA7EAAAOxAGVKw4bAAAAMUlEQVQ4jWNhoDJgoZmBzxgY/lNikBQDAyOKgdQCowaOGjhq4KiBdDYQVp5RzUBqAQBpMAJs0IW6GwAAAABJRU5ErkJggg==",
     "contentType": "image/png",
     "groupId": "0",
     "height": 20,
     "width": 20,
     "layerId": 0,
     "layerName": "Concentrations moyennes annuelles en NO2 en 2018 - ZAG Mulhouse"
    },
    {
     "label": "56.1 - 64",
     "imageData": "iVBORw0KGgoAAAANSUhEUgAAABQAAAAUCAYAAACNiR0NAAAACXBIWXMAAA7EAAAOxAGVKw4bAAAAMUlEQVQ4jWNhoDJgoZmBZxgY/lNikAkDAyOKgdQCowaOGjhq4KiBdDYQVp5RzUBqAQByOgKGXLrWXgAAAABJRU5ErkJggg==",
     "contentType": "image/png",
     "groupId": "0",
     "height": 20,
     "width": 20,
     "layerId": 0,
     "layerName": "Concentrations moyennes annuelles en NO2 en 2018 - ZAG Mulhouse"
    },
    {
     "label": "64.1 - 72",
     "imageData": "iVBORw0KGgoAAAANSUhEUgAAABQAAAAUCAYAAACNiR0NAAAACXBIWXMAAA7EAAAOxAGVKw4bAAAAMUlEQVQ4jWNhoDJgoZmBmxkY/lNikC8DAyOKgdQCowaOGjhq4KiBdDYQVp5RzUBqAQB66wKfqxByhAAAAABJRU5ErkJggg==",
     "contentType": "image/png",
     "groupId": "0",
     "height": 20,
     "width": 20,
     "layerId": 0,
     "layerName": "Concentrations moyennes annuelles en NO2 en 2018 - ZAG Mulhouse"
    },
    {
     "label": "72.1 - 80",
     "imageData": "iVBORw0KGgoAAAANSUhEUgAAABQAAAAUCAYAAACNiR0NAAAACXBIWXMAAA7EAAAOxAGVKw4bAAAAMUlEQVQ4jWNhoDJgoZmBMxkY/lNiUDoDAyOKgdQCowaOGjhq4KiBdDYQVp5RzUBqAQCD9QK5mJMmjgAAAABJRU5ErkJggg==",
     "contentType": "image/png",
     "groupId": "0",
     "height": 20,
     "width": 20,
     "layerId": 0,
     "layerName": "Concentrations moyennes annuelles en NO2 en 2018 - ZAG Mulhouse"
    },
    {
     "label": "80.1 - 120",
     "imageData": "iVBORw0KGgoAAAANSUhEUgAAABQAAAAUCAYAAACNiR0NAAAACXBIWXMAAA7EAAAOxAGVKw4bAAAAMklEQVQ4jWNhoDJgoZmBDQwM/ykxqIGBgRHFQGqBUQNHDRw1cNRAOhvYAC3PqGYgtQAAjKYC0j5F6dMAAAAASUVORK5CYII=",
     "contentType": "image/png",
     "groupId": "0",
     "height": 20,
     "width": 20,
     "layerId": 0,
     "layerName": "Concentrations moyennes annuelles en NO2 en 2018 - ZAG Mulhouse"
    },
    {
     "label": "120.1 - 160",
     "imageData": "iVBORw0KGgoAAAANSUhEUgAAABQAAAAUCAYAAACNiR0NAAAACXBIWXMAAA7EAAAOxAGVKw4bAAAAMklEQVQ4jWNhoDJgoZmBDQwM/ykxqIGBgRHFQGqBUQNHDRw1cNRAOhvYAC3PqGYgtQAAjKYC0j5F6dMAAAAASUVORK5CYII=",
     "contentType": "image/png",
     "groupId": "0",
     "height": 20,
     "width": 20,
     "layerId": 0,
     "layerName": "Concentrations moyennes annuelles en NO2 en 2018 - ZAG Mulhouse"
    }
   ],
   "layerId": 0,
   "layerName": "Concentrations moyennes annuelles en NO2 en 2018 - ZAG Mulhouse",
   "serviceItemId": "abc46111fa11432e942f4ffb6de5c8bc"
  }
 ],
 "initialExtent": {
  "xmin": 798545.7430260422,
  "ymin": 6049807.6916030245,
  "xmax": 842964.1019502188,
  "ymax": 6091365.593148039,
  "spatialReference": {
   "wkid": 102100,
   "latestWkid": 3857,
   "xyTolerance": 0.001,
   "zTolerance": 0.001,
   "mTolerance": 0.001,
   "falseX": -20037700,
   "falseY": -30241100,
   "xyUnits": 10000,
   "falseZ": -100000,
   "zUnits": 10000,
   "falseM": -100000,
   "mUnits": 10000
  }
 },
 "fullExtent": {
  "xmin": 798545.7430260422,
  "ymin": 6049807.6916030245,
  "xmax": 842964.1019502188,
  "ymax": 6091365.593148039,
  "spatialReference": {
   "wkid": 102100,
   "latestWkid": 3857,
   "xyTolerance": 0.001,
   "zTolerance": 0.001,
   "mTolerance": 0.001,
   "falseX": -20037700,
   "falseY": -30241100,
   "xyUnits": 10000,
   "falseZ": -100000,
   "zUnits": 10000,
   "falseM": -100000,
   "mUnits": 10000
  }
 },
 "minScale": 0,
 "maxScale": 0,
 "exportTilesAllowed": false,
 "maxExportTilesCount": 0,
 "currentVersion": 11.3,
 "mapName": "mod_mulhouse_2018_no2_moyan",
 "singleFusedMapCache": true,
 "type": "MapServer",
 "supportedExtensions": "",
 "capabilities": "TilesOnly,Tilemap",
 "serviceItemId": "abc46111fa11432e942f4ffb6de5c8bc"
}
