{
 "version": 1.0,
 "tileBundlesPath": "./tile",
 "spatialReference": {
  "wkid": 102100,
  "latestWkid": 3857
 },
 "storageInfo": {
  "packetSize": 128,
  "storageFormat": "esriMapCacheStorageModeCompactV2"
 },
 "tileImageInfo": {
  "format": "MIXED",
  "compressionQuality": 75,
  "bandCount": 1,
  "lercError": 0
 },
 "tileInfo": {
  "spatialReference": {
   "wkid": 102100,
   "latestWkid": 3857
  },
  "origin": {
   "x": -2.0037508342787E7,
   "y": 2.0037508342787E7
  },
  "rows": 256,
  "cols": 256,
  "dpi": 96,
  "lods": [
   {
    "level": 0,
    "resolution": 156543.033928,
    "scale": 5.91657527591555E8
   },
   {
    "level": 1,
    "resolution": 78271.5169639999,
    "scale": 2.95828763795777E8
   },
   {
    "level": 2,
    "resolution": 39135.7584820001,
    "scale": 1.47914381897889E8
   },
   {
    "level": 3,
    "resolution": 19567.8792409999,
    "scale": 7.3957190948944E7
   },
   {
    "level": 4,
    "resolution": 9783.93962049996,
    "scale": 3.6978595474472E7
   },
   {
    "level": 5,
    "resolution": 4891.96981024998,
    "scale": 1.8489297737236E7
   },
   {
    "level": 6,
    "resolution": 2445.98490512499,
    "scale": 9244648.868618
   },
   {
    "level": 7,
    "resolution": 1222.99245256249,
    "scale": 4622324.434309
   },
   {
    "level": 8,
    "resolution": 611.49622628138,
    "scale": 2311162.217155
   },
   {
    "level": 9,
    "resolution": 305.748113140558,
    "scale": 1155581.108577
   },
   {
    "level": 10,
    "resolution": 152.874056570411,
    "scale": 577790.554289
   },
   {
    "level": 11,
    "resolution": 76.4370282850732,
    "scale": 288895.277144
   },
   {
    "level": 12,
    "resolution": 38.2185141425366,
    "scale": 144447.638572
   },
   {
    "level": 13,
    "resolution": 19.1092570712683,
    "scale": 72223.819286
   },
   {
    "level": 14,
    "resolution": 9.55462853563415,
    "scale": 36111.909643
   },
   {
    "level": 15,
    "resolution": 4.77731426794937,
    "scale": 18055.954822
   },
   {
    "level": 16,
    "resolution": 2.38865713397468,
    "scale": 9027.977411
   },
   {
    "level": 17,
    "resolution": 1.19432856685505,
    "scale": 4513.988705
   },
   {
    "level": 18,
    "resolution": 0.597164283559817,
    "scale": 2256.994353
   },
   {
    "level": 19,
    "resolution": 0.298582141647617,
    "scale": 1128.497176
   },
   {
    "level": 20,
    "resolution": 0.14929107082380833,
    "scale": 564.248588
   },
   {
    "level": 21,
    "resolution": 0.07464553541190416,
    "scale": 282.124294
   },
   {
    "level": 22,
    "resolution": 0.03732276770595208,
    "scale": 141.062147
   },
   {
    "level": 23,
    "resolution": 0.01866138385297604,
    "scale": 70.5310735
   }
  ],
  "format": "MIXED",
  "compressionQuality": 75,
  "bandCount": 1,
  "lercError": 0,
  "storageFormat": "esriMapCacheStorageModeCompactV2",
  "packetSize": 128
 },
 "name": "Map",
 "serviceDescription": "",
 "units": "esriMeters",
 "minScale": 0,
 "maxScale": 0,
 "minLOD": 7,
 "maxLOD": 12,
 "resampling": true,
 "exportTilesAllowed": false,
 "layers": [
  {
   "id": 1,
   "name": "Concentrations moyennes annuelles en PM2.5 en 2025 - Grand Est",
   "parentLayerId": -1,
   "defaultVisibility": true,
   "subLayerIds": null,
   "minScale": 0,
   "maxScale": 0,
   "type": "Raster Layer",
   "supportsDynamicLegends": true,
   "legend": [
    {
     "label": "0",
     "imageData": "iVBORw0KGgoAAAANSUhEUgAAABQAAAAUCAYAAACNiR0NAAAACXBIWXMAAA7EAAAOxAGVKw4bAAAAPklEQVQ4jWNhoDJgoZ2BZ1b9p8gkkzBGVAOpBFhGDaQYsFBuBCoYNZBywEIFM1DAqIGUA4SB0PKMegZSCQAANZoD3Cd2EmkAAAAASUVORK5CYII=",
     "contentType": "image/png",
     "groupId": "0",
     "height": 20,
     "width": 20,
     "layerId": 1,
     "layerName": "Concentrations moyennes annuelles en PM2.5 en 2025 - Grand Est"
    },
    {
     "label": "0.1 - 1",
     "imageData": "iVBORw0KGgoAAAANSUhEUgAAABQAAAAUCAYAAACNiR0NAAAACXBIWXMAAA7EAAAOxAGVKw4bAAAAPklEQVQ4jWNhoDJgoZ2BZ1b9p8gkkzBGVAOpBFhGDaQYsFBuBCoYNZBywEIFM1DAqIGUA4SB0PKMegZSCQAANZoD3Cd2EmkAAAAASUVORK5CYII=",
     "contentType": "image/png",
     "groupId": "0",
     "height": 20,
     "width": 20,
     "layerId": 1,
     "layerName": "Concentrations moyennes annuelles en PM2.5 en 2025 - Grand Est"
    },
    {
     "label": "1.1 - 2",
     "imageData": "iVBORw0KGgoAAAANSUhEUgAAABQAAAAUCAYAAACNiR0NAAAACXBIWXMAAA7EAAAOxAGVKw4bAAAAPklEQVQ4jWNhoDJgoZ2BZ1b9p8gkkzBGVAOpBFhGDaQYsFBuBCoYNZBywEIFM1DAqIGUA4SB0PKMegZSCQAANZoD3Cd2EmkAAAAASUVORK5CYII=",
     "contentType": "image/png",
     "groupId": "0",
     "height": 20,
     "width": 20,
     "layerId": 1,
     "layerName": "Concentrations moyennes annuelles en PM2.5 en 2025 - Grand Est"
    },
    {
     "label": "2.1 - 3",
     "imageData": "iVBORw0KGgoAAAANSUhEUgAAABQAAAAUCAYAAACNiR0NAAAACXBIWXMAAA7EAAAOxAGVKw4bAAAAPklEQVQ4jWNhoDJgoZ2BZ1b9p8gkkzBGVAOpBFhGDaQYsFBuBCoYNZBywEIFM1DAqIGUA4SB0PKMegZSCQAANZoD3Cd2EmkAAAAASUVORK5CYII=",
     "contentType": "image/png",
     "groupId": "0",
     "height": 20,
     "width": 20,
     "layerId": 1,
     "layerName": "Concentrations moyennes annuelles en PM2.5 en 2025 - Grand Est"
    },
    {
     "label": "3.1 - 4",
     "imageData": "iVBORw0KGgoAAAANSUhEUgAAABQAAAAUCAYAAACNiR0NAAAACXBIWXMAAA7EAAAOxAGVKw4bAAAAPklEQVQ4jWNhoDJgoZ2BZ1b9p8gkkzBGVAOpBFhGDaQYsFBuBCoYNZBywEIFM1DAqIGUA4SB0PKMegZSCQAANZoD3Cd2EmkAAAAASUVORK5CYII=",
     "contentType": "image/png",
     "groupId": "0",
     "height": 20,
     "width": 20,
     "layerId": 1,
     "layerName": "Concentrations moyennes annuelles en PM2.5 en 2025 - Grand Est"
    },
    {
     "label": "4.1 - 5",
     "imageData": "iVBORw0KGgoAAAANSUhEUgAAABQAAAAUCAYAAACNiR0NAAAACXBIWXMAAA7EAAAOxAGVKw4bAAAAPklEQVQ4jWNhoDJgoZ2BZ1b9p8gkkzBGVAOpBFhGDaQYsFBuBCoYNZBywEIFM1DAqIGUA4SB0PKMegZSCQAANZoD3Cd2EmkAAAAASUVORK5CYII=",
     "contentType": "image/png",
     "groupId": "0",
     "height": 20,
     "width": 20,
     "layerId": 1,
     "layerName": "Concentrations moyennes annuelles en PM2.5 en 2025 - Grand Est"
    },
    {
     "label": "5.1 - 6",
     "imageData": "iVBORw0KGgoAAAANSUhEUgAAABQAAAAUCAYAAACNiR0NAAAACXBIWXMAAA7EAAAOxAGVKw4bAAAAPklEQVQ4jWNhoDJgoZ2BZ1b9p8gkkzBGVAOpBFhGDaQYsFBuBCoYNZBywEIFM1DAqIGUA4SB0PKMegZSCQAANZoD3Cd2EmkAAAAASUVORK5CYII=",
     "contentType": "image/png",
     "groupId": "0",
     "height": 20,
     "width": 20,
     "layerId": 1,
     "layerName": "Concentrations moyennes annuelles en PM2.5 en 2025 - Grand Est"
    },
    {
     "label": "6.1 - 7",
     "imageData": "iVBORw0KGgoAAAANSUhEUgAAABQAAAAUCAYAAACNiR0NAAAACXBIWXMAAA7EAAAOxAGVKw4bAAAAQElEQVQ4jWNhoDJgoZmB8hfb/1Ni0EP9SkYUA6kFWEYNpBiwUG4EKhg1kHLAQgUzUMCogZQDuIGw8oxqBlILAAA3WgXbv7JtsAAAAABJRU5ErkJggg==",
     "contentType": "image/png",
     "groupId": "0",
     "height": 20,
     "width": 20,
     "layerId": 1,
     "layerName": "Concentrations moyennes annuelles en PM2.5 en 2025 - Grand Est"
    },
    {
     "label": "7.1 - 8",
     "imageData": "iVBORw0KGgoAAAANSUhEUgAAABQAAAAUCAYAAACNiR0NAAAACXBIWXMAAA7EAAAOxAGVKw4bAAAAQElEQVQ4jWNhoDJgoZmBdtfS/1Ni0CGtmYwoBlILsIwaSDFgodwIVDBqIOWAhQpmoIBRAykHcANh5RnVDKQWAAA1uwXXiS/AyAAAAABJRU5ErkJggg==",
     "contentType": "image/png",
     "groupId": "0",
     "height": 20,
     "width": 20,
     "layerId": 1,
     "layerName": "Concentrations moyennes annuelles en PM2.5 en 2025 - Grand Est"
    },
    {
     "label": "8.1 - 9",
     "imageData": "iVBORw0KGgoAAAANSUhEUgAAABQAAAAUCAYAAACNiR0NAAAACXBIWXMAAA7EAAAOxAGVKw4bAAAAQElEQVQ4jWNhoDJgoZmB0bdd/lNi0FLVPYwoBlILsIwaSDFgodwIVDBqIOWAhQpmoIBRAykHcANh5RnVDKQWAAA10wXYp++shQAAAABJRU5ErkJggg==",
     "contentType": "image/png",
     "groupId": "0",
     "height": 20,
     "width": 20,
     "layerId": 1,
     "layerName": "Concentrations moyennes annuelles en PM2.5 en 2025 - Grand Est"
    },
    {
     "label": "9.1 - 10",
     "imageData": "iVBORw0KGgoAAAANSUhEUgAAABQAAAAUCAYAAACNiR0NAAAACXBIWXMAAA7EAAAOxAGVKw4bAAAAQElEQVQ4jWNhoDJgoZmB1Q+U/lNiUKvCPUYUA6kFWEYNpBiwUG4EKhg1kHLAQgUzUMCogZQDuIGw8oxqBlILAAA0iQXVrW6ovwAAAABJRU5ErkJggg==",
     "contentType": "image/png",
     "groupId": "0",
     "height": 20,
     "width": 20,
     "layerId": 1,
     "layerName": "Concentrations moyennes annuelles en PM2.5 en 2025 - Grand Est"
    },
    {
     "label": "10.1 - 11",
     "imageData": "iVBORw0KGgoAAAANSUhEUgAAABQAAAAUCAYAAACNiR0NAAAACXBIWXMAAA7EAAAOxAGVKw4bAAAAQElEQVQ4jWNhoDJgoZmBM58x/KfEoHQpBkYUA6kFWEYNpBiwUG4EKhg1kHLAQgUzUMCogZQDuIGw8oxqBlILAAA1PwPTL38+5wAAAABJRU5ErkJggg==",
     "contentType": "image/png",
     "groupId": "0",
     "height": 20,
     "width": 20,
     "layerId": 1,
     "layerName": "Concentrations moyennes annuelles en PM2.5 en 2025 - Grand Est"
    },
    {
     "label": "11.1 - 12",
     "imageData": "iVBORw0KGgoAAAANSUhEUgAAABQAAAAUCAYAAACNiR0NAAAACXBIWXMAAA7EAAAOxAGVKw4bAAAAQElEQVQ4jWNhoDJgoZmBa14z/KfEoBBRBkYUA6kFWEYNpBiwUG4EKhg1kHLAQgUzUMCogZQDuIGw8oxqBlILAAAs7AO7GPFV8AAAAABJRU5ErkJggg==",
     "contentType": "image/png",
     "groupId": "0",
     "height": 20,
     "width": 20,
     "layerId": 1,
     "layerName": "Concentrations moyennes annuelles en PM2.5 en 2025 - Grand Est"
    },
    {
     "label": "12.1 - 13",
     "imageData": "iVBORw0KGgoAAAANSUhEUgAAABQAAAAUCAYAAACNiR0NAAAACXBIWXMAAA7EAAAOxAGVKw4bAAAAQElEQVQ4jWNhoDJgoZmBBz4w/KfEIAcBBkYUA6kFWEYNpBiwUG4EKhg1kHLAQgUzUMCogZQDuIGw8oxqBlILAAAkQAOitro0xAAAAABJRU5ErkJggg==",
     "contentType": "image/png",
     "groupId": "0",
     "height": 20,
     "width": 20,
     "layerId": 1,
     "layerName": "Concentrations moyennes annuelles en PM2.5 en 2025 - Grand Est"
    },
    {
     "label": "13.1 - 14",
     "imageData": "iVBORw0KGgoAAAANSUhEUgAAABQAAAAUCAYAAACNiR0NAAAACXBIWXMAAA7EAAAOxAGVKw4bAAAAQElEQVQ4jWNhoDJgoZmBV74y/KfEIB1uBkYUA6kFWEYNpBiwUG4EKhg1kHLAQgUzUMCogZQDuIGw8oxqBlILAAAblAOJckh7rgAAAABJRU5ErkJggg==",
     "contentType": "image/png",
     "groupId": "0",
     "height": 20,
     "width": 20,
     "layerId": 1,
     "layerName": "Concentrations moyennes annuelles en PM2.5 en 2025 - Grand Est"
    },
    {
     "label": "14.1 - 15",
     "imageData": "iVBORw0KGgoAAAANSUhEUgAAABQAAAAUCAYAAACNiR0NAAAACXBIWXMAAA7EAAAOxAGVKw4bAAAAQElEQVQ4jWNhoDJgoZmBL38x/KfEIHE2BkYUA6kFWEYNpBiwUG4EKhg1kHLAQgUzUMCogZQDuIGw8oxqBlILAAASjwNv2fr1twAAAABJRU5ErkJggg==",
     "contentType": "image/png",
     "groupId": "0",
     "height": 20,
     "width": 20,
     "layerId": 1,
     "layerName": "Concentrations moyennes annuelles en PM2.5 en 2025 - Grand Est"
    },
    {
     "label": "15.1 - 16",
     "imageData": "iVBORw0KGgoAAAANSUhEUgAAABQAAAAUCAYAAACNiR0NAAAACXBIWXMAAA7EAAAOxAGVKw4bAAAAO0lEQVQ4je3UsQ0AMAwCQSyx/8pOlUjUkI4f4MonwvEbuIt1oBmMgKlY0I4+oRX0Y8CQCvo98P4sBqY6CTEDVHFEo4wAAAAASUVORK5CYII=",
     "contentType": "image/png",
     "groupId": "0",
     "height": 20,
     "width": 20,
     "layerId": 1,
     "layerName": "Concentrations moyennes annuelles en PM2.5 en 2025 - Grand Est"
    },
    {
     "label": "16.1 - 17",
     "imageData": "iVBORw0KGgoAAAANSUhEUgAAABQAAAAUCAYAAACNiR0NAAAACXBIWXMAAA7EAAAOxAGVKw4bAAAAP0lEQVQ4je3UsQ0AIAwDQUfyBOw/IyuECiTXNl1+gCufCMdvYG+0A9VCCZiKA9rRJ7QB/RgwpAH9Hnh/FgNTHQ8JA2Xf6b2MAAAAAElFTkSuQmCC",
     "contentType": "image/png",
     "groupId": "0",
     "height": 20,
     "width": 20,
     "layerId": 1,
     "layerName": "Concentrations moyennes annuelles en PM2.5 en 2025 - Grand Est"
    },
    {
     "label": "17.1 - 18",
     "imageData": "iVBORw0KGgoAAAANSUhEUgAAABQAAAAUCAYAAACNiR0NAAAACXBIWXMAAA7EAAAOxAGVKw4bAAAAP0lEQVQ4je3UsQ0AIAwDQUfyJuw/ErOECiTXNl1+gCufCMdvYG+0A9VCCZiKA9rRJ7QB/RgwpAH9Hnh/FgNTHRThA3Z222ifAAAAAElFTkSuQmCC",
     "contentType": "image/png",
     "groupId": "0",
     "height": 20,
     "width": 20,
     "layerId": 1,
     "layerName": "Concentrations moyennes annuelles en PM2.5 en 2025 - Grand Est"
    },
    {
     "label": "18.1 - 19",
     "imageData": "iVBORw0KGgoAAAANSUhEUgAAABQAAAAUCAYAAACNiR0NAAAACXBIWXMAAA7EAAAOxAGVKw4bAAAAP0lEQVQ4je3UsQ0AIAwDQUfySOw/ATuFCiTXNl1+gCufCMdvYG+0A9VCCZiKA9rRJ7QB/RgwpAH9Hnh/FgNTHRq5A4euTdWAAAAAAElFTkSuQmCC",
     "contentType": "image/png",
     "groupId": "0",
     "height": 20,
     "width": 20,
     "layerId": 1,
     "layerName": "Concentrations moyennes annuelles en PM2.5 en 2025 - Grand Est"
    },
    {
     "label": "19.1 - 20",
     "imageData": "iVBORw0KGgoAAAANSUhEUgAAABQAAAAUCAYAAACNiR0NAAAACXBIWXMAAA7EAAAOxAGVKw4bAAAAPklEQVQ4je3UsQ0AIAwDQUfyakzNcKECybVNlx/gyifC8RvYG+1AtVACpuKAdvQJbUA/BgxpQL8H3p/FwFQHIJEDmEdWjeoAAAAASUVORK5CYII=",
     "contentType": "image/png",
     "groupId": "0",
     "height": 20,
     "width": 20,
     "layerId": 1,
     "layerName": "Concentrations moyennes annuelles en PM2.5 en 2025 - Grand Est"
    },
    {
     "label": "20.1 - 21",
     "imageData": "iVBORw0KGgoAAAANSUhEUgAAABQAAAAUCAYAAACNiR0NAAAACXBIWXMAAA7EAAAOxAGVKw4bAAAAPklEQVQ4je3UsQ0AIAwDQUfyjAzJkqECybVNlx/gyifC8RvYG+1AtVACpuKAdvQJbUA/BgxpQL8H3p/FwFQHJmkDqYvc6sgAAAAASUVORK5CYII=",
     "contentType": "image/png",
     "groupId": "0",
     "height": 20,
     "width": 20,
     "layerId": 1,
     "layerName": "Concentrations moyennes annuelles en PM2.5 en 2025 - Grand Est"
    },
    {
     "label": "21.1 - 22",
     "imageData": "iVBORw0KGgoAAAANSUhEUgAAABQAAAAUCAYAAACNiR0NAAAACXBIWXMAAA7EAAAOxAGVKw4bAAAAPklEQVQ4je3UsQ0AIAwDQUfy0IzA1qECybVNlx/gyifC8RvYG+1AtVACpuKAdvQJbUA/BgxpQL8H3p/FwFQHMhkDy4TIhrwAAAAASUVORK5CYII=",
     "contentType": "image/png",
     "groupId": "0",
     "height": 20,
     "width": 20,
     "layerId": 1,
     "layerName": "Concentrations moyennes annuelles en PM2.5 en 2025 - Grand Est"
    },
    {
     "label": "22.1 - 23",
     "imageData": "iVBORw0KGgoAAAANSUhEUgAAABQAAAAUCAYAAACNiR0NAAAACXBIWXMAAA7EAAAOxAGVKw4bAAAAPklEQVQ4je3UsQ0AIAwDQUfyrAzFsqECybVNlx/gyifC8RvYC+1AtVECpuKAdvQJbUA/BgxpQL8H3p/FwFQHPckD7bSE8AMAAAAASUVORK5CYII=",
     "contentType": "image/png",
     "groupId": "0",
     "height": 20,
     "width": 20,
     "layerId": 1,
     "layerName": "Concentrations moyennes annuelles en PM2.5 en 2025 - Grand Est"
    },
    {
     "label": "23.1 - 24",
     "imageData": "iVBORw0KGgoAAAANSUhEUgAAABQAAAAUCAYAAACNiR0NAAAACXBIWXMAAA7EAAAOxAGVKw4bAAAAPklEQVQ4je3UsQ0AIAwDQUfyaIzNbqECybVNlx/gyifC8RvYC+1AtVECpuKAdvQJbUA/BgxpQL8H3p/FwFQHSXkED3UhwLMAAAAASUVORK5CYII=",
     "contentType": "image/png",
     "groupId": "0",
     "height": 20,
     "width": 20,
     "layerId": 1,
     "layerName": "Concentrations moyennes annuelles en PM2.5 en 2025 - Grand Est"
    },
    {
     "label": "24.1 - 25",
     "imageData": "iVBORw0KGgoAAAANSUhEUgAAABQAAAAUCAYAAACNiR0NAAAACXBIWXMAAA7EAAAOxAGVKw4bAAAAP0lEQVQ4je3UsQ0AIAwDQUfyJOw/E6uECiTXNl1+gCufCMdvYC+0A9VGCZiKA9rRJ7QB/RgwpAH9Hnh/FgNTHVUpBDFg9s+kAAAAAElFTkSuQmCC",
     "contentType": "image/png",
     "groupId": "0",
     "height": 20,
     "width": 20,
     "layerId": 1,
     "layerName": "Concentrations moyennes annuelles en PM2.5 en 2025 - Grand Est"
    },
    {
     "label": "25.1 - 30",
     "imageData": "iVBORw0KGgoAAAANSUhEUgAAABQAAAAUCAYAAACNiR0NAAAACXBIWXMAAA7EAAAOxAGVKw4bAAAAOklEQVQ4jWNhoDJgoZmB/8GIfMAIRrR0IbUAC9VMgoJRAykHLFQwAwWMGkg5YBnBBjJCyzOqGUgtAABgfwJTnasaYgAAAABJRU5ErkJggg==",
     "contentType": "image/png",
     "groupId": "0",
     "height": 20,
     "width": 20,
     "layerId": 1,
     "layerName": "Concentrations moyennes annuelles en PM2.5 en 2025 - Grand Est"
    },
    {
     "label": "30.1 - 35",
     "imageData": "iVBORw0KGgoAAAANSUhEUgAAABQAAAAUCAYAAACNiR0NAAAACXBIWXMAAA7EAAAOxAGVKw4bAAAAPklEQVQ4je3UsQ0AIAACQUyYwv1ncw2tNKEGO36AK58Ix2/gArYDTWAImIoF7egTWkE/BgypoN8D789iYKoDaTACbJXlJZcAAAAASUVORK5CYII=",
     "contentType": "image/png",
     "groupId": "0",
     "height": 20,
     "width": 20,
     "layerId": 1,
     "layerName": "Concentrations moyennes annuelles en PM2.5 en 2025 - Grand Est"
    },
    {
     "label": "35.1 - 40",
     "imageData": "iVBORw0KGgoAAAANSUhEUgAAABQAAAAUCAYAAACNiR0NAAAACXBIWXMAAA7EAAAOxAGVKw4bAAAAPklEQVQ4je3UsQ0AIAACQUwYyf0ncCetNKEGO36AK58Ix2/gArYDTWAImIoF7egTWkE/BgypoN8D789iYKoDcjoChukxvHkAAAAASUVORK5CYII=",
     "contentType": "image/png",
     "groupId": "0",
     "height": 20,
     "width": 20,
     "layerId": 1,
     "layerName": "Concentrations moyennes annuelles en PM2.5 en 2025 - Grand Est"
    },
    {
     "label": "40.1 - 45",
     "imageData": "iVBORw0KGgoAAAANSUhEUgAAABQAAAAUCAYAAACNiR0NAAAACXBIWXMAAA7EAAAOxAGVKw4bAAAAPUlEQVQ4je3UsQ0AIAACQUxYz2kdUCtNqMGOH+DKJ8LxG7iA7UATGAKmYkE7+oRW0I8BQyro98D7sxiY6gB66wKfLBLSEgAAAABJRU5ErkJggg==",
     "contentType": "image/png",
     "groupId": "0",
     "height": 20,
     "width": 20,
     "layerId": 1,
     "layerName": "Concentrations moyennes annuelles en PM2.5 en 2025 - Grand Est"
    },
    {
     "label": "45.1 - 50",
     "imageData": "iVBORw0KGgoAAAANSUhEUgAAABQAAAAUCAYAAACNiR0NAAAACXBIWXMAAA7EAAAOxAGVKw4bAAAAPUlEQVQ4je3UsQ0AIAACQUzY1ZmcVitNqMGOH+DKJ8LxG7iA7UATGAKmYkE7+oRW0I8BQyro98D7sxiY6gCD9QK5SUBtkAAAAABJRU5ErkJggg==",
     "contentType": "image/png",
     "groupId": "0",
     "height": 20,
     "width": 20,
     "layerId": 1,
     "layerName": "Concentrations moyennes annuelles en PM2.5 en 2025 - Grand Est"
    },
    {
     "label": "50.1 - 75",
     "imageData": "iVBORw0KGgoAAAANSUhEUgAAABQAAAAUCAYAAACNiR0NAAAACXBIWXMAAA7EAAAOxAGVKw4bAAAAPElEQVQ4je3UsQ0AIBQCUUwY/G+uiZXUYMcN8MojwvEbOMB2oAGWgKlY0I4+oRX0Y8CQCvq9P7w/i4GpDoymAtKOdUt1AAAAAElFTkSuQmCC",
     "contentType": "image/png",
     "groupId": "0",
     "height": 20,
     "width": 20,
     "layerId": 1,
     "layerName": "Concentrations moyennes annuelles en PM2.5 en 2025 - Grand Est"
    },
    {
     "label": "75.1 - 100",
     "imageData": "iVBORw0KGgoAAAANSUhEUgAAABQAAAAUCAYAAACNiR0NAAAACXBIWXMAAA7EAAAOxAGVKw4bAAAAPElEQVQ4je3UsQ0AIBQCUUwY/G+uiZXUYMcN8MojwvEbOMB2oAGWgKlY0I4+oRX0Y8CQCvq9P7w/i4GpDoymAtKOdUt1AAAAAElFTkSuQmCC",
     "contentType": "image/png",
     "groupId": "0",
     "height": 20,
     "width": 20,
     "layerId": 1,
     "layerName": "Concentrations moyennes annuelles en PM2.5 en 2025 - Grand Est"
    }
   ],
   "layerId": 1,
   "layerName": "Concentrations moyennes annuelles en PM2.5 en 2025 - Grand Est",
   "serviceItemId": "d321055f26b74fecbc702cbaae31dcfe"
  }
 ],
 "initialExtent": {
  "xmin": 304263.95649140404,
  "ymin": 5951803.458334103,
  "xmax": 933656.814323272,
  "ymax": 6527208.603808887,
  "spatialReference": {
   "wkid": 102100,
   "latestWkid": 3857
  }
 },
 "fullExtent": {
  "xmin": 304263.95649140404,
  "ymin": 5951803.458334103,
  "xmax": 933656.814323272,
  "ymax": 6527208.603808887,
  "spatialReference": {
   "wkid": 102100,
   "latestWkid": 3857
  }
 },
 "currentVersion": 11.3,
 "mapName": "Map",
 "singleFusedMapCache": true,
 "type": "MapServer",
 "supportedExtensions": "",
 "capabilities": "TilesOnly,Tilemap",
 "serviceItemId": "d321055f26b74fecbc702cbaae31dcfe"
}
